BEGIN:VCALENDAR
VERSION:2.0
PRODID:-//Woodland Hills HOA - ECPv6.15.20//NONSGML v1.0//EN
CALSCALE:GREGORIAN
METHOD:PUBLISH
X-WR-CALNAME:Woodland Hills HOA
X-ORIGINAL-URL:https://woodlandhillsmd.com
X-WR-CALDESC:Events for Woodland Hills HOA
REFRESH-INTERVAL;VALUE=DURATION:PT1H
X-Robots-Tag:noindex
X-PUBLISHED-TTL:PT1H
BEGIN:VTIMEZONE
TZID:UTC
BEGIN:STANDARD
TZOFFSETFROM:+0000
TZOFFSETTO:+0000
TZNAME:UTC
DTSTART:20250101T000000
END:STANDARD
END:VTIMEZONE
BEGIN:VEVENT
DTSTART;VALUE=DATE:20260105
DTEND;VALUE=DATE:20260106
DTSTAMP:20260423T195554
CREATED:20251124T205939Z
LAST-MODIFIED:20251124T205939Z
UID:1937-1767571200-1767657599@woodlandhillsmd.com
SUMMARY:Trash Pickup
DESCRIPTION:Household trash only. \nEnclosed containers (with tight-fitting lids) may be put out the evening prior to next-day pickup. \nBagged household trash may only be left outside the morning of trash pickup. \n*Service provided by a private Woodland Hills contractor.
URL:https://woodlandhillsmd.com/calendar/trash-pickup-109/
CATEGORIES:Trash Pickup
END:VEVENT
BEGIN:VEVENT
DTSTART;VALUE=DATE:20260106
DTEND;VALUE=DATE:20260107
DTSTAMP:20260423T195554
CREATED:20251124T205740Z
LAST-MODIFIED:20251124T205740Z
UID:1929-1767657600-1767743999@woodlandhillsmd.com
SUMMARY:Recycling/Yard Waste Pickup
DESCRIPTION:Recycling bins and yard waste may be put out the evening prior to next-day pickup. \nGrass clippings\, leaves\, and brush must be bagged separately in yard-waste paper bag. \nBranches must be tied in bundles or placed in brown paper bags (only branches up to 4″ in diameter and 6′ in length will be picked up). \nFor more information on recycling\, visit: www.gaithersburgmd.gov/services/recycling-bulk-pickup \n*Service provided by the City of Gaithersburg.
URL:https://woodlandhillsmd.com/calendar/recycling-yard-waste-pickup-58/
CATEGORIES:Recycling Pickup
END:VEVENT
BEGIN:VEVENT
DTSTART;VALUE=DATE:20260108
DTEND;VALUE=DATE:20260109
DTSTAMP:20260423T195554
CREATED:20251124T210118Z
LAST-MODIFIED:20251124T210118Z
UID:1945-1767830400-1767916799@woodlandhillsmd.com
SUMMARY:Trash Pickup
DESCRIPTION:Household trash only. \nEnclosed containers (with tight-fitting lids) may be put out the evening prior to next-day pickup. \nBagged household trash may only be left outside the morning of trash pickup. \n*Service provided by a private Woodland Hills contractor.
URL:https://woodlandhillsmd.com/calendar/trash-pickup-113/
CATEGORIES:Trash Pickup
END:VEVENT
BEGIN:VEVENT
DTSTART;VALUE=DATE:20260112
DTEND;VALUE=DATE:20260113
DTSTAMP:20260423T195554
CREATED:20251124T205954Z
LAST-MODIFIED:20251124T205954Z
UID:1939-1768176000-1768262399@woodlandhillsmd.com
SUMMARY:Trash Pickup
DESCRIPTION:Household trash only. \nEnclosed containers (with tight-fitting lids) may be put out the evening prior to next-day pickup. \nBagged household trash may only be left outside the morning of trash pickup. \n*Service provided by a private Woodland Hills contractor.
URL:https://woodlandhillsmd.com/calendar/trash-pickup-110/
CATEGORIES:Trash Pickup
END:VEVENT
BEGIN:VEVENT
DTSTART;VALUE=DATE:20260113
DTEND;VALUE=DATE:20260114
DTSTAMP:20260423T195554
CREATED:20251124T205803Z
LAST-MODIFIED:20251124T205803Z
UID:1931-1768262400-1768348799@woodlandhillsmd.com
SUMMARY:Recycling/Yard Waste Pickup
DESCRIPTION:Recycling bins and yard waste may be put out the evening prior to next-day pickup. \nGrass clippings\, leaves\, and brush must be bagged separately in yard-waste paper bag. \nBranches must be tied in bundles or placed in brown paper bags (only branches up to 4″ in diameter and 6′ in length will be picked up). \nFor more information on recycling\, visit: www.gaithersburgmd.gov/services/recycling-bulk-pickup \n*Service provided by the City of Gaithersburg.
URL:https://woodlandhillsmd.com/calendar/recycling-yard-waste-pickup-59/
CATEGORIES:Recycling Pickup
END:VEVENT
BEGIN:VEVENT
DTSTART;VALUE=DATE:20260115
DTEND;VALUE=DATE:20260116
DTSTAMP:20260423T195554
CREATED:20251124T210136Z
LAST-MODIFIED:20251124T210136Z
UID:1947-1768435200-1768521599@woodlandhillsmd.com
SUMMARY:Trash Pickup
DESCRIPTION:Household trash only. \nEnclosed containers (with tight-fitting lids) may be put out the evening prior to next-day pickup. \nBagged household trash may only be left outside the morning of trash pickup. \n*Service provided by a private Woodland Hills contractor.
URL:https://woodlandhillsmd.com/calendar/trash-pickup-114/
CATEGORIES:Trash Pickup
END:VEVENT
BEGIN:VEVENT
DTSTART;VALUE=DATE:20260119
DTEND;VALUE=DATE:20260120
DTSTAMP:20260423T195554
CREATED:20251124T210024Z
LAST-MODIFIED:20251124T210024Z
UID:1941-1768780800-1768867199@woodlandhillsmd.com
SUMMARY:Trash Pickup
DESCRIPTION:Household trash only. \nEnclosed containers (with tight-fitting lids) may be put out the evening prior to next-day pickup. \nBagged household trash may only be left outside the morning of trash pickup. \n*Service provided by a private Woodland Hills contractor.
URL:https://woodlandhillsmd.com/calendar/trash-pickup-111/
CATEGORIES:Trash Pickup
END:VEVENT
BEGIN:VEVENT
DTSTART;VALUE=DATE:20260120
DTEND;VALUE=DATE:20260121
DTSTAMP:20260423T195554
CREATED:20251124T205821Z
LAST-MODIFIED:20251124T205821Z
UID:1933-1768867200-1768953599@woodlandhillsmd.com
SUMMARY:Recycling/Yard Waste Pickup
DESCRIPTION:Recycling bins and yard waste may be put out the evening prior to next-day pickup. \nGrass clippings\, leaves\, and brush must be bagged separately in yard-waste paper bag. \nBranches must be tied in bundles or placed in brown paper bags (only branches up to 4″ in diameter and 6′ in length will be picked up). \nFor more information on recycling\, visit: www.gaithersburgmd.gov/services/recycling-bulk-pickup \n*Service provided by the City of Gaithersburg.
URL:https://woodlandhillsmd.com/calendar/recycling-yard-waste-pickup-60/
CATEGORIES:Recycling Pickup
END:VEVENT
BEGIN:VEVENT
DTSTART;VALUE=DATE:20260122
DTEND;VALUE=DATE:20260123
DTSTAMP:20260423T195554
CREATED:20251124T210158Z
LAST-MODIFIED:20251124T210158Z
UID:1949-1769040000-1769126399@woodlandhillsmd.com
SUMMARY:Trash Pickup
DESCRIPTION:Household trash only. \nEnclosed containers (with tight-fitting lids) may be put out the evening prior to next-day pickup. \nBagged household trash may only be left outside the morning of trash pickup. \n*Service provided by a private Woodland Hills contractor.
URL:https://woodlandhillsmd.com/calendar/trash-pickup-115/
CATEGORIES:Trash Pickup
END:VEVENT
BEGIN:VEVENT
DTSTART;VALUE=DATE:20260126
DTEND;VALUE=DATE:20260127
DTSTAMP:20260423T195554
CREATED:20251124T210100Z
LAST-MODIFIED:20251124T210100Z
UID:1943-1769385600-1769471999@woodlandhillsmd.com
SUMMARY:Trash Pickup
DESCRIPTION:Household trash only. \nEnclosed containers (with tight-fitting lids) may be put out the evening prior to next-day pickup. \nBagged household trash may only be left outside the morning of trash pickup. \n*Service provided by a private Woodland Hills contractor.
URL:https://woodlandhillsmd.com/calendar/trash-pickup-112/
CATEGORIES:Trash Pickup
END:VEVENT
BEGIN:VEVENT
DTSTART;VALUE=DATE:20260127
DTEND;VALUE=DATE:20260128
DTSTAMP:20260423T195554
CREATED:20251124T205839Z
LAST-MODIFIED:20251124T205839Z
UID:1935-1769472000-1769558399@woodlandhillsmd.com
SUMMARY:Recycling/Yard Waste Pickup
DESCRIPTION:Recycling bins and yard waste may be put out the evening prior to next-day pickup. \nGrass clippings\, leaves\, and brush must be bagged separately in yard-waste paper bag. \nBranches must be tied in bundles or placed in brown paper bags (only branches up to 4″ in diameter and 6′ in length will be picked up). \nFor more information on recycling\, visit: www.gaithersburgmd.gov/services/recycling-bulk-pickup \n*Service provided by the City of Gaithersburg.
URL:https://woodlandhillsmd.com/calendar/recycling-yard-waste-pickup-61/
CATEGORIES:Recycling Pickup
END:VEVENT
BEGIN:VEVENT
DTSTART;VALUE=DATE:20260129
DTEND;VALUE=DATE:20260130
DTSTAMP:20260423T195554
CREATED:20251124T210227Z
LAST-MODIFIED:20251124T210227Z
UID:1951-1769644800-1769731199@woodlandhillsmd.com
SUMMARY:Trash Pickup
DESCRIPTION:Household trash only. \nEnclosed containers (with tight-fitting lids) may be put out the evening prior to next-day pickup. \nBagged household trash may only be left outside the morning of trash pickup. \n*Service provided by a private Woodland Hills contractor.
URL:https://woodlandhillsmd.com/calendar/trash-pickup-116/
CATEGORIES:Trash Pickup
END:VEVENT
END:VCALENDAR