BEGIN:VCALENDAR
VERSION:2.0
PRODID:-//Woodland Hills HOA - ECPv6.15.20//NONSGML v1.0//EN
CALSCALE:GREGORIAN
METHOD:PUBLISH
X-ORIGINAL-URL:https://woodlandhillsmd.com
X-WR-CALDESC:Events for Woodland Hills HOA
REFRESH-INTERVAL;VALUE=DURATION:PT1H
X-Robots-Tag:noindex
X-PUBLISHED-TTL:PT1H
BEGIN:VTIMEZONE
TZID:UTC
BEGIN:STANDARD
TZOFFSETFROM:+0000
TZOFFSETTO:+0000
TZNAME:UTC
DTSTART:20240101T000000
END:STANDARD
END:VTIMEZONE
BEGIN:VEVENT
DTSTART;VALUE=DATE:20250814
DTEND;VALUE=DATE:20250815
DTSTAMP:20260425T021840
CREATED:20250801T165107Z
LAST-MODIFIED:20250801T165107Z
UID:1799-1755129600-1755215999@woodlandhillsmd.com
SUMMARY:Trash Pickup
DESCRIPTION:Household trash only. \nEnclosed containers (with tight-fitting lids) may be put out the evening prior to next-day pickup. \nBagged household trash may only be left outside the morning of trash pickup. \n*Service provided by a private Woodland Hills contractor.
URL:https://woodlandhillsmd.com/calendar/trash-pickup-75/
CATEGORIES:Trash Pickup
END:VEVENT
BEGIN:VEVENT
DTSTART;VALUE=DATE:20250811
DTEND;VALUE=DATE:20250812
DTSTAMP:20260425T021840
CREATED:20250801T164937Z
LAST-MODIFIED:20250801T164937Z
UID:1791-1754870400-1754956799@woodlandhillsmd.com
SUMMARY:Trash Pickup
DESCRIPTION:Household trash only. \nEnclosed containers (with tight-fitting lids) may be put out the evening prior to next-day pickup. \nBagged household trash may only be left outside the morning of trash pickup. \n*Service provided by a private Woodland Hills contractor.
URL:https://woodlandhillsmd.com/calendar/trash-pickup-71/
CATEGORIES:Trash Pickup
END:VEVENT
BEGIN:VEVENT
DTSTART;VALUE=DATE:20250807
DTEND;VALUE=DATE:20250808
DTSTAMP:20260425T021840
CREATED:20250801T165053Z
LAST-MODIFIED:20250801T165053Z
UID:1797-1754524800-1754611199@woodlandhillsmd.com
SUMMARY:Trash Pickup
DESCRIPTION:Household trash only. \nEnclosed containers (with tight-fitting lids) may be put out the evening prior to next-day pickup. \nBagged household trash may only be left outside the morning of trash pickup. \n*Service provided by a private Woodland Hills contractor.
URL:https://woodlandhillsmd.com/calendar/trash-pickup-74/
CATEGORIES:Trash Pickup
END:VEVENT
BEGIN:VEVENT
DTSTART;VALUE=DATE:20250804
DTEND;VALUE=DATE:20250805
DTSTAMP:20260425T021840
CREATED:20250801T164921Z
LAST-MODIFIED:20250801T164921Z
UID:1789-1754265600-1754351999@woodlandhillsmd.com
SUMMARY:Trash Pickup
DESCRIPTION:Household trash only. \nEnclosed containers (with tight-fitting lids) may be put out the evening prior to next-day pickup. \nBagged household trash may only be left outside the morning of trash pickup. \n*Service provided by a private Woodland Hills contractor.
URL:https://woodlandhillsmd.com/calendar/trash-pickup-70/
CATEGORIES:Trash Pickup
END:VEVENT
BEGIN:VEVENT
DTSTART;VALUE=DATE:20250731
DTEND;VALUE=DATE:20250801
DTSTAMP:20260425T021840
CREATED:20250619T161908Z
LAST-MODIFIED:20250619T161908Z
UID:1728-1753920000-1754006399@woodlandhillsmd.com
SUMMARY:Trash Pickup
DESCRIPTION:Household trash only. \nEnclosed containers (with tight-fitting lids) may be put out the evening prior to next-day pickup. \nBagged household trash may only be left outside the morning of trash pickup. \n*Service provided by a private Woodland Hills contractor.
URL:https://woodlandhillsmd.com/calendar/trash-pickup-69/
CATEGORIES:Trash Pickup
END:VEVENT
BEGIN:VEVENT
DTSTART;VALUE=DATE:20250728
DTEND;VALUE=DATE:20250729
DTSTAMP:20260425T021840
CREATED:20250619T161854Z
LAST-MODIFIED:20250619T161854Z
UID:1726-1753660800-1753747199@woodlandhillsmd.com
SUMMARY:Trash Pickup
DESCRIPTION:Household trash only. \nEnclosed containers (with tight-fitting lids) may be put out the evening prior to next-day pickup. \nBagged household trash may only be left outside the morning of trash pickup. \n*Service provided by a private Woodland Hills contractor.
URL:https://woodlandhillsmd.com/calendar/trash-pickup-68/
CATEGORIES:Trash Pickup
END:VEVENT
BEGIN:VEVENT
DTSTART;VALUE=DATE:20250724
DTEND;VALUE=DATE:20250725
DTSTAMP:20260425T021840
CREATED:20250619T161814Z
LAST-MODIFIED:20250619T161814Z
UID:1722-1753315200-1753401599@woodlandhillsmd.com
SUMMARY:Trash Pickup
DESCRIPTION:Household trash only. \nEnclosed containers (with tight-fitting lids) may be put out the evening prior to next-day pickup. \nBagged household trash may only be left outside the morning of trash pickup. \n*Service provided by a private Woodland Hills contractor.
URL:https://woodlandhillsmd.com/calendar/trash-pickup-66/
CATEGORIES:Trash Pickup
END:VEVENT
BEGIN:VEVENT
DTSTART;VALUE=DATE:20250721
DTEND;VALUE=DATE:20250722
DTSTAMP:20260425T021840
CREATED:20250619T161832Z
LAST-MODIFIED:20250619T161832Z
UID:1724-1753056000-1753142399@woodlandhillsmd.com
SUMMARY:Trash Pickup
DESCRIPTION:Household trash only. \nEnclosed containers (with tight-fitting lids) may be put out the evening prior to next-day pickup. \nBagged household trash may only be left outside the morning of trash pickup. \n*Service provided by a private Woodland Hills contractor.
URL:https://woodlandhillsmd.com/calendar/trash-pickup-67/
CATEGORIES:Trash Pickup
END:VEVENT
BEGIN:VEVENT
DTSTART;VALUE=DATE:20250717
DTEND;VALUE=DATE:20250718
DTSTAMP:20260425T021840
CREATED:20250619T161756Z
LAST-MODIFIED:20250619T161756Z
UID:1720-1752710400-1752796799@woodlandhillsmd.com
SUMMARY:Trash Pickup
DESCRIPTION:Household trash only. \nEnclosed containers (with tight-fitting lids) may be put out the evening prior to next-day pickup. \nBagged household trash may only be left outside the morning of trash pickup. \n*Service provided by a private Woodland Hills contractor.
URL:https://woodlandhillsmd.com/calendar/trash-pickup-65/
CATEGORIES:Trash Pickup
END:VEVENT
BEGIN:VEVENT
DTSTART;VALUE=DATE:20250714
DTEND;VALUE=DATE:20250715
DTSTAMP:20260425T021840
CREATED:20250619T161738Z
LAST-MODIFIED:20250619T161738Z
UID:1718-1752451200-1752537599@woodlandhillsmd.com
SUMMARY:Trash Pickup
DESCRIPTION:Household trash only. \nEnclosed containers (with tight-fitting lids) may be put out the evening prior to next-day pickup. \nBagged household trash may only be left outside the morning of trash pickup. \n*Service provided by a private Woodland Hills contractor.
URL:https://woodlandhillsmd.com/calendar/trash-pickup-64/
CATEGORIES:Trash Pickup
END:VEVENT
BEGIN:VEVENT
DTSTART;VALUE=DATE:20250710
DTEND;VALUE=DATE:20250711
DTSTAMP:20260425T021840
CREATED:20250619T161721Z
LAST-MODIFIED:20250619T161721Z
UID:1716-1752105600-1752191999@woodlandhillsmd.com
SUMMARY:Trash Pickup
DESCRIPTION:Household trash only. \nEnclosed containers (with tight-fitting lids) may be put out the evening prior to next-day pickup. \nBagged household trash may only be left outside the morning of trash pickup. \n*Service provided by a private Woodland Hills contractor.
URL:https://woodlandhillsmd.com/calendar/trash-pickup-63/
CATEGORIES:Trash Pickup
END:VEVENT
BEGIN:VEVENT
DTSTART;VALUE=DATE:20250707
DTEND;VALUE=DATE:20250708
DTSTAMP:20260425T021840
CREATED:20250619T161700Z
LAST-MODIFIED:20250619T161700Z
UID:1714-1751846400-1751932799@woodlandhillsmd.com
SUMMARY:Trash Pickup
DESCRIPTION:Household trash only. \nEnclosed containers (with tight-fitting lids) may be put out the evening prior to next-day pickup. \nBagged household trash may only be left outside the morning of trash pickup. \n*Service provided by a private Woodland Hills contractor.
URL:https://woodlandhillsmd.com/calendar/trash-pickup-62/
CATEGORIES:Trash Pickup
END:VEVENT
BEGIN:VEVENT
DTSTART;VALUE=DATE:20250703
DTEND;VALUE=DATE:20250704
DTSTAMP:20260425T021840
CREATED:20250619T161640Z
LAST-MODIFIED:20250619T161640Z
UID:1712-1751500800-1751587199@woodlandhillsmd.com
SUMMARY:Trash Pickup
DESCRIPTION:Household trash only. \nEnclosed containers (with tight-fitting lids) may be put out the evening prior to next-day pickup. \nBagged household trash may only be left outside the morning of trash pickup. \n*Service provided by a private Woodland Hills contractor.
URL:https://woodlandhillsmd.com/calendar/trash-pickup-61/
CATEGORIES:Trash Pickup
END:VEVENT
BEGIN:VEVENT
DTSTART;VALUE=DATE:20250630
DTEND;VALUE=DATE:20250701
DTSTAMP:20260425T021840
CREATED:20250520T221008Z
LAST-MODIFIED:20250520T221008Z
UID:1614-1751241600-1751327999@woodlandhillsmd.com
SUMMARY:Trash Pickup
DESCRIPTION:Household trash only. \nEnclosed containers (with tight-fitting lids) may be put out the evening prior to next-day pickup. \nBagged household trash may only be left outside the morning of trash pickup. \n*Service provided by a private Woodland Hills contractor.
URL:https://woodlandhillsmd.com/calendar/trash-pickup-56/
CATEGORIES:Trash Pickup
END:VEVENT
BEGIN:VEVENT
DTSTART;VALUE=DATE:20250626
DTEND;VALUE=DATE:20250627
DTSTAMP:20260425T021840
CREATED:20250520T221143Z
LAST-MODIFIED:20250520T221143Z
UID:1622-1750896000-1750982399@woodlandhillsmd.com
SUMMARY:Trash Pickup
DESCRIPTION:Household trash only. \nEnclosed containers (with tight-fitting lids) may be put out the evening prior to next-day pickup. \nBagged household trash may only be left outside the morning of trash pickup. \n*Service provided by a private Woodland Hills contractor.
URL:https://woodlandhillsmd.com/calendar/trash-pickup-60/
CATEGORIES:Trash Pickup
END:VEVENT
BEGIN:VEVENT
DTSTART;VALUE=DATE:20250623
DTEND;VALUE=DATE:20250624
DTSTAMP:20260425T021840
CREATED:20250520T220949Z
LAST-MODIFIED:20250520T220949Z
UID:1612-1750636800-1750723199@woodlandhillsmd.com
SUMMARY:Trash Pickup
DESCRIPTION:Household trash only. \nEnclosed containers (with tight-fitting lids) may be put out the evening prior to next-day pickup. \nBagged household trash may only be left outside the morning of trash pickup. \n*Service provided by a private Woodland Hills contractor.
URL:https://woodlandhillsmd.com/calendar/trash-pickup-55/
CATEGORIES:Trash Pickup
END:VEVENT
BEGIN:VEVENT
DTSTART;VALUE=DATE:20250619
DTEND;VALUE=DATE:20250620
DTSTAMP:20260425T021840
CREATED:20250520T221127Z
LAST-MODIFIED:20250520T221127Z
UID:1620-1750291200-1750377599@woodlandhillsmd.com
SUMMARY:Trash Pickup
DESCRIPTION:Household trash only. \nEnclosed containers (with tight-fitting lids) may be put out the evening prior to next-day pickup. \nBagged household trash may only be left outside the morning of trash pickup. \n*Service provided by a private Woodland Hills contractor.
URL:https://woodlandhillsmd.com/calendar/trash-pickup-59/
CATEGORIES:Trash Pickup
END:VEVENT
BEGIN:VEVENT
DTSTART;VALUE=DATE:20250616
DTEND;VALUE=DATE:20250617
DTSTAMP:20260425T021840
CREATED:20250520T220931Z
LAST-MODIFIED:20250520T220931Z
UID:1610-1750032000-1750118399@woodlandhillsmd.com
SUMMARY:Trash Pickup
DESCRIPTION:Household trash only. \nEnclosed containers (with tight-fitting lids) may be put out the evening prior to next-day pickup. \nBagged household trash may only be left outside the morning of trash pickup. \n*Service provided by a private Woodland Hills contractor.
URL:https://woodlandhillsmd.com/calendar/trash-pickup-54/
CATEGORIES:Trash Pickup
END:VEVENT
BEGIN:VEVENT
DTSTART;VALUE=DATE:20250612
DTEND;VALUE=DATE:20250613
DTSTAMP:20260425T021840
CREATED:20250520T221110Z
LAST-MODIFIED:20250520T221110Z
UID:1618-1749686400-1749772799@woodlandhillsmd.com
SUMMARY:Trash Pickup
DESCRIPTION:Household trash only. \nEnclosed containers (with tight-fitting lids) may be put out the evening prior to next-day pickup. \nBagged household trash may only be left outside the morning of trash pickup. \n*Service provided by a private Woodland Hills contractor.
URL:https://woodlandhillsmd.com/calendar/trash-pickup-58/
CATEGORIES:Trash Pickup
END:VEVENT
BEGIN:VEVENT
DTSTART;VALUE=DATE:20250609
DTEND;VALUE=DATE:20250610
DTSTAMP:20260425T021840
CREATED:20250520T220907Z
LAST-MODIFIED:20250520T220907Z
UID:1608-1749427200-1749513599@woodlandhillsmd.com
SUMMARY:Trash Pickup
DESCRIPTION:Household trash only. \nEnclosed containers (with tight-fitting lids) may be put out the evening prior to next-day pickup. \nBagged household trash may only be left outside the morning of trash pickup. \n*Service provided by a private Woodland Hills contractor.
URL:https://woodlandhillsmd.com/calendar/trash-pickup-53/
CATEGORIES:Trash Pickup
END:VEVENT
BEGIN:VEVENT
DTSTART;VALUE=DATE:20250605
DTEND;VALUE=DATE:20250606
DTSTAMP:20260425T021840
CREATED:20250520T221054Z
LAST-MODIFIED:20250520T221054Z
UID:1616-1749081600-1749167999@woodlandhillsmd.com
SUMMARY:Trash Pickup
DESCRIPTION:Household trash only. \nEnclosed containers (with tight-fitting lids) may be put out the evening prior to next-day pickup. \nBagged household trash may only be left outside the morning of trash pickup. \n*Service provided by a private Woodland Hills contractor.
URL:https://woodlandhillsmd.com/calendar/trash-pickup-57/
CATEGORIES:Trash Pickup
END:VEVENT
BEGIN:VEVENT
DTSTART;VALUE=DATE:20250602
DTEND;VALUE=DATE:20250603
DTSTAMP:20260425T021840
CREATED:20250520T220852Z
LAST-MODIFIED:20250520T220852Z
UID:1606-1748822400-1748908799@woodlandhillsmd.com
SUMMARY:Trash Pickup
DESCRIPTION:Household trash only. \nEnclosed containers (with tight-fitting lids) may be put out the evening prior to next-day pickup. \nBagged household trash may only be left outside the morning of trash pickup. \n*Service provided by a private Woodland Hills contractor.
URL:https://woodlandhillsmd.com/calendar/trash-pickup-52/
CATEGORIES:Trash Pickup
END:VEVENT
BEGIN:VEVENT
DTSTART;VALUE=DATE:20250529
DTEND;VALUE=DATE:20250530
DTSTAMP:20260425T021840
CREATED:20250501T231507Z
LAST-MODIFIED:20250501T231507Z
UID:1503-1748476800-1748563199@woodlandhillsmd.com
SUMMARY:Trash Pickup
DESCRIPTION:Household trash only. \nEnclosed containers (with tight-fitting lids) may be put out the evening prior to next-day pickup. \nBagged household trash may only be left outside the morning of trash pickup. \n*Service provided by a private Woodland Hills contractor.
URL:https://woodlandhillsmd.com/calendar/trash-pickup-51/
CATEGORIES:Trash Pickup
END:VEVENT
BEGIN:VEVENT
DTSTART;VALUE=DATE:20250522
DTEND;VALUE=DATE:20250523
DTSTAMP:20260425T021840
CREATED:20250501T231440Z
LAST-MODIFIED:20250501T231440Z
UID:1501-1747872000-1747958399@woodlandhillsmd.com
SUMMARY:Trash Pickup
DESCRIPTION:Household trash only. \nEnclosed containers (with tight-fitting lids) may be put out the evening prior to next-day pickup. \nBagged household trash may only be left outside the morning of trash pickup. \n*Service provided by a private Woodland Hills contractor.
URL:https://woodlandhillsmd.com/calendar/trash-pickup-50/
CATEGORIES:Trash Pickup
END:VEVENT
BEGIN:VEVENT
DTSTART;VALUE=DATE:20250519
DTEND;VALUE=DATE:20250520
DTSTAMP:20260425T021840
CREATED:20250501T231422Z
LAST-MODIFIED:20250501T231422Z
UID:1499-1747612800-1747699199@woodlandhillsmd.com
SUMMARY:Trash Pickup
DESCRIPTION:Household trash only. \nEnclosed containers (with tight-fitting lids) may be put out the evening prior to next-day pickup. \nBagged household trash may only be left outside the morning of trash pickup. \n*Service provided by a private Woodland Hills contractor.
URL:https://woodlandhillsmd.com/calendar/trash-pickup-49/
CATEGORIES:Trash Pickup
END:VEVENT
BEGIN:VEVENT
DTSTART;VALUE=DATE:20250515
DTEND;VALUE=DATE:20250516
DTSTAMP:20260425T021840
CREATED:20250501T231337Z
LAST-MODIFIED:20250501T231337Z
UID:1497-1747267200-1747353599@woodlandhillsmd.com
SUMMARY:Trash Pickup
DESCRIPTION:Household trash only. \nEnclosed containers (with tight-fitting lids) may be put out the evening prior to next-day pickup. \nBagged household trash may only be left outside the morning of trash pickup. \n*Service provided by a private Woodland Hills contractor.
URL:https://woodlandhillsmd.com/calendar/trash-pickup-48/
CATEGORIES:Trash Pickup
END:VEVENT
BEGIN:VEVENT
DTSTART;VALUE=DATE:20250512
DTEND;VALUE=DATE:20250513
DTSTAMP:20260425T021840
CREATED:20250501T231322Z
LAST-MODIFIED:20250501T231322Z
UID:1495-1747008000-1747094399@woodlandhillsmd.com
SUMMARY:Trash Pickup
DESCRIPTION:Household trash only. \nEnclosed containers (with tight-fitting lids) may be put out the evening prior to next-day pickup. \nBagged household trash may only be left outside the morning of trash pickup. \n*Service provided by a private Woodland Hills contractor.
URL:https://woodlandhillsmd.com/calendar/trash-pickup-47/
CATEGORIES:Trash Pickup
END:VEVENT
BEGIN:VEVENT
DTSTART;VALUE=DATE:20250508
DTEND;VALUE=DATE:20250509
DTSTAMP:20260425T021840
CREATED:20250501T231300Z
LAST-MODIFIED:20250501T231300Z
UID:1493-1746662400-1746748799@woodlandhillsmd.com
SUMMARY:Trash Pickup
DESCRIPTION:Household trash only. \nEnclosed containers (with tight-fitting lids) may be put out the evening prior to next-day pickup. \nBagged household trash may only be left outside the morning of trash pickup. \n*Service provided by a private Woodland Hills contractor.
URL:https://woodlandhillsmd.com/calendar/trash-pickup-46/
CATEGORIES:Trash Pickup
END:VEVENT
BEGIN:VEVENT
DTSTART;VALUE=DATE:20250505
DTEND;VALUE=DATE:20250506
DTSTAMP:20260425T021840
CREATED:20250501T231207Z
LAST-MODIFIED:20250501T231207Z
UID:1490-1746403200-1746489599@woodlandhillsmd.com
SUMMARY:Trash Pickup
DESCRIPTION:Household trash only. \nEnclosed containers (with tight-fitting lids) may be put out the evening prior to next-day pickup. \nBagged household trash may only be left outside the morning of trash pickup. \n*Service provided by a private Woodland Hills contractor.
URL:https://woodlandhillsmd.com/calendar/trash-pickup-45/
CATEGORIES:Trash Pickup
END:VEVENT
BEGIN:VEVENT
DTSTART;VALUE=DATE:20250501
DTEND;VALUE=DATE:20250502
DTSTAMP:20260425T021840
CREATED:20250312T010548Z
LAST-MODIFIED:20250312T010548Z
UID:1464-1746057600-1746143999@woodlandhillsmd.com
SUMMARY:Trash Pickup
DESCRIPTION:Household trash only. \nEnclosed containers (with tight-fitting lids) may be put out the evening prior to next-day pickup. \nBagged household trash may only be left outside the morning of trash pickup. \n*Service provided by a private Woodland Hills contractor.
URL:https://woodlandhillsmd.com/calendar/trash-pickup-44/
CATEGORIES:Trash Pickup
END:VEVENT
END:VCALENDAR