BEGIN:VCALENDAR
VERSION:2.0
PRODID:-//Woodland Hills HOA - ECPv6.15.20//NONSGML v1.0//EN
CALSCALE:GREGORIAN
METHOD:PUBLISH
X-ORIGINAL-URL:https://woodlandhillsmd.com
X-WR-CALDESC:Events for Woodland Hills HOA
REFRESH-INTERVAL;VALUE=DURATION:PT1H
X-Robots-Tag:noindex
X-PUBLISHED-TTL:PT1H
BEGIN:VTIMEZONE
TZID:UTC
BEGIN:STANDARD
TZOFFSETFROM:+0000
TZOFFSETTO:+0000
TZNAME:UTC
DTSTART:20240101T000000
END:STANDARD
END:VTIMEZONE
BEGIN:VEVENT
DTSTART;VALUE=DATE:20251113
DTEND;VALUE=DATE:20251114
DTSTAMP:20260424T233025
CREATED:20251124T204510Z
LAST-MODIFIED:20251124T204510Z
UID:1901-1762992000-1763078399@woodlandhillsmd.com
SUMMARY:Trash Pickup
DESCRIPTION:Household trash only. \nEnclosed containers (with tight-fitting lids) may be put out the evening prior to next-day pickup. \nBagged household trash may only be left outside the morning of trash pickup. \n*Service provided by a private Woodland Hills contractor.
URL:https://woodlandhillsmd.com/calendar/trash-pickup-100/
CATEGORIES:Trash Pickup
END:VEVENT
BEGIN:VEVENT
DTSTART;VALUE=DATE:20251110
DTEND;VALUE=DATE:20251111
DTSTAMP:20260424T233025
CREATED:20251124T204259Z
LAST-MODIFIED:20251124T204259Z
UID:1891-1762732800-1762819199@woodlandhillsmd.com
SUMMARY:Trash Pickup
DESCRIPTION:Household trash only. \nEnclosed containers (with tight-fitting lids) may be put out the evening prior to next-day pickup. \nBagged household trash may only be left outside the morning of trash pickup. \n*Service provided by a private Woodland Hills contractor.
URL:https://woodlandhillsmd.com/calendar/trash-pickup-95/
CATEGORIES:Trash Pickup
END:VEVENT
BEGIN:VEVENT
DTSTART;VALUE=DATE:20251106
DTEND;VALUE=DATE:20251107
DTSTAMP:20260424T233025
CREATED:20251124T204355Z
LAST-MODIFIED:20251124T204355Z
UID:1897-1762387200-1762473599@woodlandhillsmd.com
SUMMARY:Trash Pickup
DESCRIPTION:Household trash only. \nEnclosed containers (with tight-fitting lids) may be put out the evening prior to next-day pickup. \nBagged household trash may only be left outside the morning of trash pickup. \n*Service provided by a private Woodland Hills contractor.
URL:https://woodlandhillsmd.com/calendar/trash-pickup-98/
CATEGORIES:Trash Pickup
END:VEVENT
BEGIN:VEVENT
DTSTART;VALUE=DATE:20251103
DTEND;VALUE=DATE:20251104
DTSTAMP:20260424T233025
CREATED:20251124T204242Z
LAST-MODIFIED:20251124T204242Z
UID:1889-1762128000-1762214399@woodlandhillsmd.com
SUMMARY:Trash Pickup
DESCRIPTION:Household trash only. \nEnclosed containers (with tight-fitting lids) may be put out the evening prior to next-day pickup. \nBagged household trash may only be left outside the morning of trash pickup. \n*Service provided by a private Woodland Hills contractor.
URL:https://woodlandhillsmd.com/calendar/trash-pickup-94/
CATEGORIES:Trash Pickup
END:VEVENT
BEGIN:VEVENT
DTSTART;VALUE=DATE:20251030
DTEND;VALUE=DATE:20251031
DTSTAMP:20260424T233025
CREATED:20251006T222947Z
LAST-MODIFIED:20251006T222947Z
UID:1872-1761782400-1761868799@woodlandhillsmd.com
SUMMARY:Trash Pickup
DESCRIPTION:Household trash only. \nEnclosed containers (with tight-fitting lids) may be put out the evening prior to next-day pickup. \nBagged household trash may only be left outside the morning of trash pickup. \n*Service provided by a private Woodland Hills contractor.
URL:https://woodlandhillsmd.com/calendar/trash-pickup-93/
CATEGORIES:Trash Pickup
END:VEVENT
BEGIN:VEVENT
DTSTART;VALUE=DATE:20251027
DTEND;VALUE=DATE:20251028
DTSTAMP:20260424T233025
CREATED:20251006T222905Z
LAST-MODIFIED:20251006T222905Z
UID:1870-1761523200-1761609599@woodlandhillsmd.com
SUMMARY:Trash Pickup
DESCRIPTION:Household trash only. \nEnclosed containers (with tight-fitting lids) may be put out the evening prior to next-day pickup. \nBagged household trash may only be left outside the morning of trash pickup. \n*Service provided by a private Woodland Hills contractor.
URL:https://woodlandhillsmd.com/calendar/trash-pickup-92/
CATEGORIES:Trash Pickup
END:VEVENT
BEGIN:VEVENT
DTSTART;VALUE=DATE:20251023
DTEND;VALUE=DATE:20251024
DTSTAMP:20260424T233025
CREATED:20251006T222806Z
LAST-MODIFIED:20251006T222806Z
UID:1868-1761177600-1761263999@woodlandhillsmd.com
SUMMARY:Trash Pickup
DESCRIPTION:Household trash only. \nEnclosed containers (with tight-fitting lids) may be put out the evening prior to next-day pickup. \nBagged household trash may only be left outside the morning of trash pickup. \n*Service provided by a private Woodland Hills contractor.
URL:https://woodlandhillsmd.com/calendar/trash-pickup-91/
CATEGORIES:Trash Pickup
END:VEVENT
BEGIN:VEVENT
DTSTART;VALUE=DATE:20251020
DTEND;VALUE=DATE:20251021
DTSTAMP:20260424T233025
CREATED:20251006T222723Z
LAST-MODIFIED:20251006T222723Z
UID:1866-1760918400-1761004799@woodlandhillsmd.com
SUMMARY:Trash Pickup
DESCRIPTION:Household trash only. \nEnclosed containers (with tight-fitting lids) may be put out the evening prior to next-day pickup. \nBagged household trash may only be left outside the morning of trash pickup. \n*Service provided by a private Woodland Hills contractor.
URL:https://woodlandhillsmd.com/calendar/trash-pickup-90/
CATEGORIES:Trash Pickup
END:VEVENT
BEGIN:VEVENT
DTSTART;VALUE=DATE:20251016
DTEND;VALUE=DATE:20251017
DTSTAMP:20260424T233025
CREATED:20251006T222639Z
LAST-MODIFIED:20251006T222639Z
UID:1864-1760572800-1760659199@woodlandhillsmd.com
SUMMARY:Trash Pickup
DESCRIPTION:Household trash only. \nEnclosed containers (with tight-fitting lids) may be put out the evening prior to next-day pickup. \nBagged household trash may only be left outside the morning of trash pickup. \n*Service provided by a private Woodland Hills contractor.
URL:https://woodlandhillsmd.com/calendar/trash-pickup-89/
CATEGORIES:Trash Pickup
END:VEVENT
BEGIN:VEVENT
DTSTART;VALUE=DATE:20251009
DTEND;VALUE=DATE:20251010
DTSTAMP:20260424T233025
CREATED:20251006T222601Z
LAST-MODIFIED:20251006T222601Z
UID:1862-1759968000-1760054399@woodlandhillsmd.com
SUMMARY:Trash Pickup
DESCRIPTION:Household trash only. \nEnclosed containers (with tight-fitting lids) may be put out the evening prior to next-day pickup. \nBagged household trash may only be left outside the morning of trash pickup. \n*Service provided by a private Woodland Hills contractor.
URL:https://woodlandhillsmd.com/calendar/trash-pickup-88/
CATEGORIES:Trash Pickup
END:VEVENT
BEGIN:VEVENT
DTSTART;VALUE=DATE:20251006
DTEND;VALUE=DATE:20251007
DTSTAMP:20260424T233025
CREATED:20251006T222511Z
LAST-MODIFIED:20251006T222511Z
UID:1860-1759708800-1759795199@woodlandhillsmd.com
SUMMARY:Trash Pickup
DESCRIPTION:Household trash only. \nEnclosed containers (with tight-fitting lids) may be put out the evening prior to next-day pickup. \nBagged household trash may only be left outside the morning of trash pickup. \n*Service provided by a private Woodland Hills contractor.
URL:https://woodlandhillsmd.com/calendar/trash-pickup-87/
CATEGORIES:Trash Pickup
END:VEVENT
BEGIN:VEVENT
DTSTART;VALUE=DATE:20251002
DTEND;VALUE=DATE:20251003
DTSTAMP:20260424T233025
CREATED:20250902T163822Z
LAST-MODIFIED:20250902T163822Z
UID:1836-1759363200-1759449599@woodlandhillsmd.com
SUMMARY:Trash Pickup
DESCRIPTION:Household trash only. \nEnclosed containers (with tight-fitting lids) may be put out the evening prior to next-day pickup. \nBagged household trash may only be left outside the morning of trash pickup. \n*Service provided by a private Woodland Hills contractor.
URL:https://woodlandhillsmd.com/calendar/trash-pickup-86/
CATEGORIES:Trash Pickup
END:VEVENT
BEGIN:VEVENT
DTSTART;VALUE=DATE:20250929
DTEND;VALUE=DATE:20250930
DTSTAMP:20260424T233025
CREATED:20250902T163717Z
LAST-MODIFIED:20250902T163717Z
UID:1834-1759104000-1759190399@woodlandhillsmd.com
SUMMARY:Trash Pickup
DESCRIPTION:Household trash only. \nEnclosed containers (with tight-fitting lids) may be put out the evening prior to next-day pickup. \nBagged household trash may only be left outside the morning of trash pickup. \n*Service provided by a private Woodland Hills contractor.
URL:https://woodlandhillsmd.com/calendar/trash-pickup-85/
CATEGORIES:Trash Pickup
END:VEVENT
BEGIN:VEVENT
DTSTART;VALUE=DATE:20250925
DTEND;VALUE=DATE:20250926
DTSTAMP:20260424T233025
CREATED:20250902T163546Z
LAST-MODIFIED:20250902T163546Z
UID:1826-1758758400-1758844799@woodlandhillsmd.com
SUMMARY:Trash Pickup
DESCRIPTION:Household trash only. \nEnclosed containers (with tight-fitting lids) may be put out the evening prior to next-day pickup. \nBagged household trash may only be left outside the morning of trash pickup. \n*Service provided by a private Woodland Hills contractor.
URL:https://woodlandhillsmd.com/calendar/trash-pickup-81/
CATEGORIES:Trash Pickup
END:VEVENT
BEGIN:VEVENT
DTSTART;VALUE=DATE:20250922
DTEND;VALUE=DATE:20250923
DTSTAMP:20260424T233025
CREATED:20250902T163657Z
LAST-MODIFIED:20250902T163657Z
UID:1832-1758499200-1758585599@woodlandhillsmd.com
SUMMARY:Trash Pickup
DESCRIPTION:Household trash only. \nEnclosed containers (with tight-fitting lids) may be put out the evening prior to next-day pickup. \nBagged household trash may only be left outside the morning of trash pickup. \n*Service provided by a private Woodland Hills contractor.
URL:https://woodlandhillsmd.com/calendar/trash-pickup-84/
CATEGORIES:Trash Pickup
END:VEVENT
BEGIN:VEVENT
DTSTART;VALUE=DATE:20250918
DTEND;VALUE=DATE:20250919
DTSTAMP:20260424T233025
CREATED:20250902T163528Z
LAST-MODIFIED:20250902T163528Z
UID:1824-1758153600-1758239999@woodlandhillsmd.com
SUMMARY:Trash Pickup
DESCRIPTION:Household trash only. \nEnclosed containers (with tight-fitting lids) may be put out the evening prior to next-day pickup. \nBagged household trash may only be left outside the morning of trash pickup. \n*Service provided by a private Woodland Hills contractor.
URL:https://woodlandhillsmd.com/calendar/trash-pickup-80/
CATEGORIES:Trash Pickup
END:VEVENT
BEGIN:VEVENT
DTSTART;VALUE=DATE:20250915
DTEND;VALUE=DATE:20250916
DTSTAMP:20260424T233025
CREATED:20250902T163639Z
LAST-MODIFIED:20250902T163639Z
UID:1830-1757894400-1757980799@woodlandhillsmd.com
SUMMARY:Trash Pickup
DESCRIPTION:Household trash only. \nEnclosed containers (with tight-fitting lids) may be put out the evening prior to next-day pickup. \nBagged household trash may only be left outside the morning of trash pickup. \n*Service provided by a private Woodland Hills contractor.
URL:https://woodlandhillsmd.com/calendar/trash-pickup-83/
CATEGORIES:Trash Pickup
END:VEVENT
BEGIN:VEVENT
DTSTART;VALUE=DATE:20250911
DTEND;VALUE=DATE:20250912
DTSTAMP:20260424T233025
CREATED:20250902T163510Z
LAST-MODIFIED:20250902T163510Z
UID:1822-1757548800-1757635199@woodlandhillsmd.com
SUMMARY:Trash Pickup
DESCRIPTION:Household trash only. \nEnclosed containers (with tight-fitting lids) may be put out the evening prior to next-day pickup. \nBagged household trash may only be left outside the morning of trash pickup. \n*Service provided by a private Woodland Hills contractor.
URL:https://woodlandhillsmd.com/calendar/trash-pickup-79/
CATEGORIES:Trash Pickup
END:VEVENT
BEGIN:VEVENT
DTSTART;VALUE=DATE:20250908
DTEND;VALUE=DATE:20250909
DTSTAMP:20260424T233025
CREATED:20250902T163605Z
LAST-MODIFIED:20250902T163605Z
UID:1828-1757289600-1757375999@woodlandhillsmd.com
SUMMARY:Trash Pickup
DESCRIPTION:Household trash only. \nEnclosed containers (with tight-fitting lids) may be put out the evening prior to next-day pickup. \nBagged household trash may only be left outside the morning of trash pickup. \n*Service provided by a private Woodland Hills contractor.
URL:https://woodlandhillsmd.com/calendar/trash-pickup-82/
CATEGORIES:Trash Pickup
END:VEVENT
BEGIN:VEVENT
DTSTART;VALUE=DATE:20250904
DTEND;VALUE=DATE:20250905
DTSTAMP:20260424T233025
CREATED:20250902T163450Z
LAST-MODIFIED:20250902T163450Z
UID:1820-1756944000-1757030399@woodlandhillsmd.com
SUMMARY:Trash Pickup
DESCRIPTION:Household trash only. \nEnclosed containers (with tight-fitting lids) may be put out the evening prior to next-day pickup. \nBagged household trash may only be left outside the morning of trash pickup. \n*Service provided by a private Woodland Hills contractor.
URL:https://woodlandhillsmd.com/calendar/trash-pickup-78/
CATEGORIES:Trash Pickup
END:VEVENT
BEGIN:VEVENT
DTSTART;VALUE=DATE:20250828
DTEND;VALUE=DATE:20250829
DTSTAMP:20260424T233025
CREATED:20250801T165146Z
LAST-MODIFIED:20250801T165146Z
UID:1803-1756339200-1756425599@woodlandhillsmd.com
SUMMARY:Trash Pickup
DESCRIPTION:Household trash only. \nEnclosed containers (with tight-fitting lids) may be put out the evening prior to next-day pickup. \nBagged household trash may only be left outside the morning of trash pickup. \n*Service provided by a private Woodland Hills contractor.
URL:https://woodlandhillsmd.com/calendar/trash-pickup-77/
CATEGORIES:Trash Pickup
END:VEVENT
BEGIN:VEVENT
DTSTART;VALUE=DATE:20250825
DTEND;VALUE=DATE:20250826
DTSTAMP:20260424T233025
CREATED:20250801T165035Z
LAST-MODIFIED:20250801T165035Z
UID:1795-1756080000-1756166399@woodlandhillsmd.com
SUMMARY:Trash Pickup
DESCRIPTION:Household trash only. \nEnclosed containers (with tight-fitting lids) may be put out the evening prior to next-day pickup. \nBagged household trash may only be left outside the morning of trash pickup. \n*Service provided by a private Woodland Hills contractor.
URL:https://woodlandhillsmd.com/calendar/trash-pickup-73/
CATEGORIES:Trash Pickup
END:VEVENT
BEGIN:VEVENT
DTSTART;VALUE=DATE:20250821
DTEND;VALUE=DATE:20250822
DTSTAMP:20260424T233025
CREATED:20250801T165122Z
LAST-MODIFIED:20250801T165122Z
UID:1801-1755734400-1755820799@woodlandhillsmd.com
SUMMARY:Trash Pickup
DESCRIPTION:Household trash only. \nEnclosed containers (with tight-fitting lids) may be put out the evening prior to next-day pickup. \nBagged household trash may only be left outside the morning of trash pickup. \n*Service provided by a private Woodland Hills contractor.
URL:https://woodlandhillsmd.com/calendar/trash-pickup-76/
CATEGORIES:Trash Pickup
END:VEVENT
BEGIN:VEVENT
DTSTART;VALUE=DATE:20250818
DTEND;VALUE=DATE:20250819
DTSTAMP:20260424T233025
CREATED:20250801T164953Z
LAST-MODIFIED:20250801T164953Z
UID:1793-1755475200-1755561599@woodlandhillsmd.com
SUMMARY:Trash Pickup
DESCRIPTION:Household trash only. \nEnclosed containers (with tight-fitting lids) may be put out the evening prior to next-day pickup. \nBagged household trash may only be left outside the morning of trash pickup. \n*Service provided by a private Woodland Hills contractor.
URL:https://woodlandhillsmd.com/calendar/trash-pickup-72/
CATEGORIES:Trash Pickup
END:VEVENT
BEGIN:VEVENT
DTSTART;VALUE=DATE:20250814
DTEND;VALUE=DATE:20250815
DTSTAMP:20260424T233025
CREATED:20250801T165107Z
LAST-MODIFIED:20250801T165107Z
UID:1799-1755129600-1755215999@woodlandhillsmd.com
SUMMARY:Trash Pickup
DESCRIPTION:Household trash only. \nEnclosed containers (with tight-fitting lids) may be put out the evening prior to next-day pickup. \nBagged household trash may only be left outside the morning of trash pickup. \n*Service provided by a private Woodland Hills contractor.
URL:https://woodlandhillsmd.com/calendar/trash-pickup-75/
CATEGORIES:Trash Pickup
END:VEVENT
BEGIN:VEVENT
DTSTART;VALUE=DATE:20250811
DTEND;VALUE=DATE:20250812
DTSTAMP:20260424T233025
CREATED:20250801T164937Z
LAST-MODIFIED:20250801T164937Z
UID:1791-1754870400-1754956799@woodlandhillsmd.com
SUMMARY:Trash Pickup
DESCRIPTION:Household trash only. \nEnclosed containers (with tight-fitting lids) may be put out the evening prior to next-day pickup. \nBagged household trash may only be left outside the morning of trash pickup. \n*Service provided by a private Woodland Hills contractor.
URL:https://woodlandhillsmd.com/calendar/trash-pickup-71/
CATEGORIES:Trash Pickup
END:VEVENT
BEGIN:VEVENT
DTSTART;VALUE=DATE:20250807
DTEND;VALUE=DATE:20250808
DTSTAMP:20260424T233025
CREATED:20250801T165053Z
LAST-MODIFIED:20250801T165053Z
UID:1797-1754524800-1754611199@woodlandhillsmd.com
SUMMARY:Trash Pickup
DESCRIPTION:Household trash only. \nEnclosed containers (with tight-fitting lids) may be put out the evening prior to next-day pickup. \nBagged household trash may only be left outside the morning of trash pickup. \n*Service provided by a private Woodland Hills contractor.
URL:https://woodlandhillsmd.com/calendar/trash-pickup-74/
CATEGORIES:Trash Pickup
END:VEVENT
BEGIN:VEVENT
DTSTART;VALUE=DATE:20250804
DTEND;VALUE=DATE:20250805
DTSTAMP:20260424T233025
CREATED:20250801T164921Z
LAST-MODIFIED:20250801T164921Z
UID:1789-1754265600-1754351999@woodlandhillsmd.com
SUMMARY:Trash Pickup
DESCRIPTION:Household trash only. \nEnclosed containers (with tight-fitting lids) may be put out the evening prior to next-day pickup. \nBagged household trash may only be left outside the morning of trash pickup. \n*Service provided by a private Woodland Hills contractor.
URL:https://woodlandhillsmd.com/calendar/trash-pickup-70/
CATEGORIES:Trash Pickup
END:VEVENT
BEGIN:VEVENT
DTSTART;VALUE=DATE:20250731
DTEND;VALUE=DATE:20250801
DTSTAMP:20260424T233025
CREATED:20250619T161908Z
LAST-MODIFIED:20250619T161908Z
UID:1728-1753920000-1754006399@woodlandhillsmd.com
SUMMARY:Trash Pickup
DESCRIPTION:Household trash only. \nEnclosed containers (with tight-fitting lids) may be put out the evening prior to next-day pickup. \nBagged household trash may only be left outside the morning of trash pickup. \n*Service provided by a private Woodland Hills contractor.
URL:https://woodlandhillsmd.com/calendar/trash-pickup-69/
CATEGORIES:Trash Pickup
END:VEVENT
BEGIN:VEVENT
DTSTART;VALUE=DATE:20250728
DTEND;VALUE=DATE:20250729
DTSTAMP:20260424T233025
CREATED:20250619T161854Z
LAST-MODIFIED:20250619T161854Z
UID:1726-1753660800-1753747199@woodlandhillsmd.com
SUMMARY:Trash Pickup
DESCRIPTION:Household trash only. \nEnclosed containers (with tight-fitting lids) may be put out the evening prior to next-day pickup. \nBagged household trash may only be left outside the morning of trash pickup. \n*Service provided by a private Woodland Hills contractor.
URL:https://woodlandhillsmd.com/calendar/trash-pickup-68/
CATEGORIES:Trash Pickup
END:VEVENT
END:VCALENDAR