BEGIN:VCALENDAR
VERSION:2.0
PRODID:-//Woodland Hills HOA - ECPv6.15.20//NONSGML v1.0//EN
CALSCALE:GREGORIAN
METHOD:PUBLISH
X-ORIGINAL-URL:https://woodlandhillsmd.com
X-WR-CALDESC:Events for Woodland Hills HOA
REFRESH-INTERVAL;VALUE=DURATION:PT1H
X-Robots-Tag:noindex
X-PUBLISHED-TTL:PT1H
BEGIN:VTIMEZONE
TZID:UTC
BEGIN:STANDARD
TZOFFSETFROM:+0000
TZOFFSETTO:+0000
TZNAME:UTC
DTSTART:20250101T000000
END:STANDARD
END:VTIMEZONE
BEGIN:VEVENT
DTSTART;VALUE=DATE:20260216
DTEND;VALUE=DATE:20260217
DTSTAMP:20260425T010042
CREATED:20260211T211507Z
LAST-MODIFIED:20260211T211507Z
UID:1994-1771200000-1771286399@woodlandhillsmd.com
SUMMARY:Trash Pickup
DESCRIPTION:Household trash only. \nEnclosed containers (with tight-fitting lids) may be put out the evening prior to next-day pickup. \nBagged household trash may only be left outside the morning of trash pickup. \n*Service provided by a private Woodland Hills contractor.
URL:https://woodlandhillsmd.com/calendar/trash-pickup-121/
CATEGORIES:Trash Pickup
END:VEVENT
BEGIN:VEVENT
DTSTART;VALUE=DATE:20260219
DTEND;VALUE=DATE:20260220
DTSTAMP:20260425T010042
CREATED:20260211T211533Z
LAST-MODIFIED:20260211T211533Z
UID:1996-1771459200-1771545599@woodlandhillsmd.com
SUMMARY:Trash Pickup
DESCRIPTION:Household trash only. \nEnclosed containers (with tight-fitting lids) may be put out the evening prior to next-day pickup. \nBagged household trash may only be left outside the morning of trash pickup. \n*Service provided by a private Woodland Hills contractor.
URL:https://woodlandhillsmd.com/calendar/trash-pickup-122/
CATEGORIES:Trash Pickup
END:VEVENT
BEGIN:VEVENT
DTSTART;VALUE=DATE:20260223
DTEND;VALUE=DATE:20260224
DTSTAMP:20260425T010042
CREATED:20260211T211610Z
LAST-MODIFIED:20260211T211610Z
UID:1998-1771804800-1771891199@woodlandhillsmd.com
SUMMARY:Trash Pickup
DESCRIPTION:Household trash only. \nEnclosed containers (with tight-fitting lids) may be put out the evening prior to next-day pickup. \nBagged household trash may only be left outside the morning of trash pickup. \n*Service provided by a private Woodland Hills contractor.
URL:https://woodlandhillsmd.com/calendar/trash-pickup-123/
CATEGORIES:Trash Pickup
END:VEVENT
BEGIN:VEVENT
DTSTART;VALUE=DATE:20260226
DTEND;VALUE=DATE:20260227
DTSTAMP:20260425T010042
CREATED:20260211T211651Z
LAST-MODIFIED:20260211T211651Z
UID:2000-1772064000-1772150399@woodlandhillsmd.com
SUMMARY:Trash Pickup
DESCRIPTION:Household trash only. \nEnclosed containers (with tight-fitting lids) may be put out the evening prior to next-day pickup. \nBagged household trash may only be left outside the morning of trash pickup. \n*Service provided by a private Woodland Hills contractor.
URL:https://woodlandhillsmd.com/calendar/trash-pickup-124/
CATEGORIES:Trash Pickup
END:VEVENT
BEGIN:VEVENT
DTSTART;VALUE=DATE:20260302
DTEND;VALUE=DATE:20260303
DTSTAMP:20260425T010042
CREATED:20260211T212616Z
LAST-MODIFIED:20260211T212616Z
UID:2012-1772409600-1772495999@woodlandhillsmd.com
SUMMARY:Trash Pickup
DESCRIPTION:Household trash only. \nEnclosed containers (with tight-fitting lids) may be put out the evening prior to next-day pickup. \nBagged household trash may only be left outside the morning of trash pickup. \n*Service provided by a private Woodland Hills contractor.
URL:https://woodlandhillsmd.com/calendar/trash-pickup-125/
CATEGORIES:Trash Pickup
END:VEVENT
BEGIN:VEVENT
DTSTART;VALUE=DATE:20260305
DTEND;VALUE=DATE:20260306
DTSTAMP:20260425T010042
CREATED:20260211T212700Z
LAST-MODIFIED:20260211T212700Z
UID:2014-1772668800-1772755199@woodlandhillsmd.com
SUMMARY:Trash Pickup
DESCRIPTION:Household trash only. \nEnclosed containers (with tight-fitting lids) may be put out the evening prior to next-day pickup. \nBagged household trash may only be left outside the morning of trash pickup. \n*Service provided by a private Woodland Hills contractor.
URL:https://woodlandhillsmd.com/calendar/trash-pickup-126/
CATEGORIES:Trash Pickup
END:VEVENT
BEGIN:VEVENT
DTSTART;VALUE=DATE:20260309
DTEND;VALUE=DATE:20260310
DTSTAMP:20260425T010042
CREATED:20260211T212724Z
LAST-MODIFIED:20260211T212724Z
UID:2016-1773014400-1773100799@woodlandhillsmd.com
SUMMARY:Trash Pickup
DESCRIPTION:Household trash only. \nEnclosed containers (with tight-fitting lids) may be put out the evening prior to next-day pickup. \nBagged household trash may only be left outside the morning of trash pickup. \n*Service provided by a private Woodland Hills contractor.
URL:https://woodlandhillsmd.com/calendar/trash-pickup-127/
CATEGORIES:Trash Pickup
END:VEVENT
BEGIN:VEVENT
DTSTART;VALUE=DATE:20260312
DTEND;VALUE=DATE:20260313
DTSTAMP:20260425T010042
CREATED:20260211T212902Z
LAST-MODIFIED:20260211T212902Z
UID:2018-1773273600-1773359999@woodlandhillsmd.com
SUMMARY:Trash Pickup
DESCRIPTION:Household trash only. \nEnclosed containers (with tight-fitting lids) may be put out the evening prior to next-day pickup. \nBagged household trash may only be left outside the morning of trash pickup. \n*Service provided by a private Woodland Hills contractor.
URL:https://woodlandhillsmd.com/calendar/trash-pickup-128/
CATEGORIES:Trash Pickup
END:VEVENT
BEGIN:VEVENT
DTSTART;VALUE=DATE:20260316
DTEND;VALUE=DATE:20260317
DTSTAMP:20260425T010042
CREATED:20260211T213017Z
LAST-MODIFIED:20260211T213017Z
UID:2020-1773619200-1773705599@woodlandhillsmd.com
SUMMARY:Trash Pickup
DESCRIPTION:Household trash only. \nEnclosed containers (with tight-fitting lids) may be put out the evening prior to next-day pickup. \nBagged household trash may only be left outside the morning of trash pickup. \n*Service provided by a private Woodland Hills contractor.
URL:https://woodlandhillsmd.com/calendar/trash-pickup-129/
CATEGORIES:Trash Pickup
END:VEVENT
BEGIN:VEVENT
DTSTART;VALUE=DATE:20260319
DTEND;VALUE=DATE:20260320
DTSTAMP:20260425T010042
CREATED:20260211T213051Z
LAST-MODIFIED:20260211T213051Z
UID:2022-1773878400-1773964799@woodlandhillsmd.com
SUMMARY:Trash Pickup
DESCRIPTION:Household trash only. \nEnclosed containers (with tight-fitting lids) may be put out the evening prior to next-day pickup. \nBagged household trash may only be left outside the morning of trash pickup. \n*Service provided by a private Woodland Hills contractor.
URL:https://woodlandhillsmd.com/calendar/trash-pickup-130/
CATEGORIES:Trash Pickup
END:VEVENT
BEGIN:VEVENT
DTSTART;VALUE=DATE:20260323
DTEND;VALUE=DATE:20260324
DTSTAMP:20260425T010042
CREATED:20260211T213127Z
LAST-MODIFIED:20260211T213127Z
UID:2024-1774224000-1774310399@woodlandhillsmd.com
SUMMARY:Trash Pickup
DESCRIPTION:Household trash only. \nEnclosed containers (with tight-fitting lids) may be put out the evening prior to next-day pickup. \nBagged household trash may only be left outside the morning of trash pickup. \n*Service provided by a private Woodland Hills contractor.
URL:https://woodlandhillsmd.com/calendar/trash-pickup-131/
CATEGORIES:Trash Pickup
END:VEVENT
BEGIN:VEVENT
DTSTART;VALUE=DATE:20260326
DTEND;VALUE=DATE:20260327
DTSTAMP:20260425T010042
CREATED:20260211T213211Z
LAST-MODIFIED:20260211T213211Z
UID:2026-1774483200-1774569599@woodlandhillsmd.com
SUMMARY:Trash Pickup
DESCRIPTION:Household trash only. \nEnclosed containers (with tight-fitting lids) may be put out the evening prior to next-day pickup. \nBagged household trash may only be left outside the morning of trash pickup. \n*Service provided by a private Woodland Hills contractor.
URL:https://woodlandhillsmd.com/calendar/trash-pickup-132/
CATEGORIES:Trash Pickup
END:VEVENT
BEGIN:VEVENT
DTSTART;VALUE=DATE:20260330
DTEND;VALUE=DATE:20260331
DTSTAMP:20260425T010042
CREATED:20260211T213236Z
LAST-MODIFIED:20260211T213236Z
UID:2028-1774828800-1774915199@woodlandhillsmd.com
SUMMARY:Trash Pickup
DESCRIPTION:Household trash only. \nEnclosed containers (with tight-fitting lids) may be put out the evening prior to next-day pickup. \nBagged household trash may only be left outside the morning of trash pickup. \n*Service provided by a private Woodland Hills contractor.
URL:https://woodlandhillsmd.com/calendar/trash-pickup-133/
CATEGORIES:Trash Pickup
END:VEVENT
END:VCALENDAR