BEGIN:VCALENDAR
VERSION:2.0
PRODID:-//Woodland Hills HOA - ECPv6.15.20//NONSGML v1.0//EN
CALSCALE:GREGORIAN
METHOD:PUBLISH
X-ORIGINAL-URL:https://woodlandhillsmd.com
X-WR-CALDESC:Events for Woodland Hills HOA
REFRESH-INTERVAL;VALUE=DURATION:PT1H
X-Robots-Tag:noindex
X-PUBLISHED-TTL:PT1H
BEGIN:VTIMEZONE
TZID:UTC
BEGIN:STANDARD
TZOFFSETFROM:+0000
TZOFFSETTO:+0000
TZNAME:UTC
DTSTART:20230101T000000
END:STANDARD
END:VTIMEZONE
BEGIN:VEVENT
DTSTART;VALUE=DATE:20250429
DTEND;VALUE=DATE:20250430
DTSTAMP:20260425T005633
CREATED:20250312T010836Z
LAST-MODIFIED:20250312T010836Z
UID:1474-1745884800-1745971199@woodlandhillsmd.com
SUMMARY:Recycling/Yard Waste Pickup
DESCRIPTION:Recycling bins and yard waste may be put out the evening prior to next-day pickup. \nGrass clippings\, leaves\, and brush must be bagged separately in yard-waste paper bag. \nBranches must be tied in bundles or placed in brown paper bags (only branches up to 4″ in diameter and 6′ in length will be picked up). \nFor more information on recycling\, visit: www.gaithersburgmd.gov/services/recycling-bulk-pickup \n*Service provided by the City of Gaithersburg.
URL:https://woodlandhillsmd.com/calendar/recycling-yard-waste-pickup-22/
CATEGORIES:Recycling Pickup
END:VEVENT
BEGIN:VEVENT
DTSTART;VALUE=DATE:20250422
DTEND;VALUE=DATE:20250423
DTSTAMP:20260425T005633
CREATED:20250312T010800Z
LAST-MODIFIED:20250312T010800Z
UID:1472-1745280000-1745366399@woodlandhillsmd.com
SUMMARY:Recycling/Yard Waste Pickup
DESCRIPTION:Recycling bins and yard waste may be put out the evening prior to next-day pickup. \nGrass clippings\, leaves\, and brush must be bagged separately in yard-waste paper bag. \nBranches must be tied in bundles or placed in brown paper bags (only branches up to 4″ in diameter and 6′ in length will be picked up). \nFor more information on recycling\, visit: www.gaithersburgmd.gov/services/recycling-bulk-pickup \n*Service provided by the City of Gaithersburg.
URL:https://woodlandhillsmd.com/calendar/recycling-yard-waste-pickup-21/
CATEGORIES:Recycling Pickup
END:VEVENT
BEGIN:VEVENT
DTSTART;VALUE=DATE:20250415
DTEND;VALUE=DATE:20250416
DTSTAMP:20260425T005633
CREATED:20250312T010734Z
LAST-MODIFIED:20250312T010734Z
UID:1470-1744675200-1744761599@woodlandhillsmd.com
SUMMARY:Recycling/Yard Waste Pickup
DESCRIPTION:Recycling bins and yard waste may be put out the evening prior to next-day pickup. \nGrass clippings\, leaves\, and brush must be bagged separately in yard-waste paper bag. \nBranches must be tied in bundles or placed in brown paper bags (only branches up to 4″ in diameter and 6′ in length will be picked up). \nFor more information on recycling\, visit: www.gaithersburgmd.gov/services/recycling-bulk-pickup \n*Service provided by the City of Gaithersburg.
URL:https://woodlandhillsmd.com/calendar/recycling-yard-waste-pickup-20/
CATEGORIES:Recycling Pickup
END:VEVENT
BEGIN:VEVENT
DTSTART;VALUE=DATE:20250408
DTEND;VALUE=DATE:20250409
DTSTAMP:20260425T005633
CREATED:20250312T010712Z
LAST-MODIFIED:20250312T010712Z
UID:1468-1744070400-1744156799@woodlandhillsmd.com
SUMMARY:Recycling/Yard Waste Pickup
DESCRIPTION:Recycling bins and yard waste may be put out the evening prior to next-day pickup. \nGrass clippings\, leaves\, and brush must be bagged separately in yard-waste paper bag. \nBranches must be tied in bundles or placed in brown paper bags (only branches up to 4″ in diameter and 6′ in length will be picked up). \nFor more information on recycling\, visit: www.gaithersburgmd.gov/services/recycling-bulk-pickup \n*Service provided by the City of Gaithersburg.
URL:https://woodlandhillsmd.com/calendar/recycling-yard-waste-pickup-19/
CATEGORIES:Recycling Pickup
END:VEVENT
BEGIN:VEVENT
DTSTART;VALUE=DATE:20250401
DTEND;VALUE=DATE:20250402
DTSTAMP:20260425T005633
CREATED:20250312T010647Z
LAST-MODIFIED:20250312T010647Z
UID:1466-1743465600-1743551999@woodlandhillsmd.com
SUMMARY:Recycling/Yard Waste Pickup
DESCRIPTION:Recycling bins and yard waste may be put out the evening prior to next-day pickup. \nGrass clippings\, leaves\, and brush must be bagged separately in yard-waste paper bag. \nBranches must be tied in bundles or placed in brown paper bags (only branches up to 4″ in diameter and 6′ in length will be picked up). \nFor more information on recycling\, visit: www.gaithersburgmd.gov/services/recycling-bulk-pickup \n*Service provided by the City of Gaithersburg.
URL:https://woodlandhillsmd.com/calendar/recycling-yard-waste-pickup-18/
CATEGORIES:Recycling Pickup
END:VEVENT
BEGIN:VEVENT
DTSTART;VALUE=DATE:20250325
DTEND;VALUE=DATE:20250326
DTSTAMP:20260425T005633
CREATED:20250217T204658Z
LAST-MODIFIED:20250218T192619Z
UID:1367-1742860800-1742947199@woodlandhillsmd.com
SUMMARY:Recycling/Yard Waste Pickup
DESCRIPTION:Recycling bins and yard waste may be put out the evening prior to next-day pickup. \nGrass clippings\, leaves\, and brush must be bagged separately in yard-waste paper bag. \nBranches must be tied in bundles or placed in brown paper bags (only branches up to 4″ in diameter and 6′ in length will be picked up). \nFor more information on recycling\, visit: www.gaithersburgmd.gov/services/recycling-bulk-pickup \n*Service provided by the City of Gaithersburg.
URL:https://woodlandhillsmd.com/calendar/recycling-yard-waste-pickup-17/
CATEGORIES:Recycling Pickup
END:VEVENT
BEGIN:VEVENT
DTSTART;VALUE=DATE:20250318
DTEND;VALUE=DATE:20250319
DTSTAMP:20260425T005633
CREATED:20250217T204638Z
LAST-MODIFIED:20250218T192641Z
UID:1365-1742256000-1742342399@woodlandhillsmd.com
SUMMARY:Recycling/Yard Waste Pickup
DESCRIPTION:Recycling bins and yard waste may be put out the evening prior to next-day pickup. \nGrass clippings\, leaves\, and brush must be bagged separately in yard-waste paper bag. \nBranches must be tied in bundles or placed in brown paper bags (only branches up to 4″ in diameter and 6′ in length will be picked up). \nFor more information on recycling\, visit: www.gaithersburgmd.gov/services/recycling-bulk-pickup \n*Service provided by the City of Gaithersburg.
URL:https://woodlandhillsmd.com/calendar/recycling-yard-waste-pickup-16/
CATEGORIES:Recycling Pickup
END:VEVENT
BEGIN:VEVENT
DTSTART;VALUE=DATE:20250311
DTEND;VALUE=DATE:20250312
DTSTAMP:20260425T005633
CREATED:20250217T204546Z
LAST-MODIFIED:20250218T192740Z
UID:1363-1741651200-1741737599@woodlandhillsmd.com
SUMMARY:Recycling/Yard Waste Pickup
DESCRIPTION:Recycling bins and yard waste may be put out the evening prior to next-day pickup. \nGrass clippings\, leaves\, and brush must be bagged separately in yard-waste paper bag. \nBranches must be tied in bundles or placed in brown paper bags (only branches up to 4″ in diameter and 6′ in length will be picked up). \nFor more information on recycling\, visit: www.gaithersburgmd.gov/services/recycling-bulk-pickup \n*Service provided by the City of Gaithersburg.
URL:https://woodlandhillsmd.com/calendar/recycling-yard-waste-pickup-15/
CATEGORIES:Recycling Pickup
END:VEVENT
BEGIN:VEVENT
DTSTART;VALUE=DATE:20250304
DTEND;VALUE=DATE:20250305
DTSTAMP:20260425T005633
CREATED:20250217T204518Z
LAST-MODIFIED:20250218T192801Z
UID:1361-1741046400-1741132799@woodlandhillsmd.com
SUMMARY:Recycling/Yard Waste Pickup
DESCRIPTION:Recycling bins and yard waste may be put out the evening prior to next-day pickup. \nGrass clippings\, leaves\, and brush must be bagged separately in yard-waste paper bag. \nBranches must be tied in bundles or placed in brown paper bags (only branches up to 4″ in diameter and 6′ in length will be picked up). \nFor more information on recycling\, visit: www.gaithersburgmd.gov/services/recycling-bulk-pickup \n*Service provided by the City of Gaithersburg.
URL:https://woodlandhillsmd.com/calendar/recycling-yard-waste-pickup-14/
CATEGORIES:Recycling Pickup
END:VEVENT
BEGIN:VEVENT
DTSTART;VALUE=DATE:20250225
DTEND;VALUE=DATE:20250226
DTSTAMP:20260425T005633
CREATED:20250111T193320Z
LAST-MODIFIED:20250218T192829Z
UID:1332-1740441600-1740527999@woodlandhillsmd.com
SUMMARY:Recycling/Yard Waste Pickup
DESCRIPTION:Recycling bins and yard waste may be put out the evening prior to next-day pickup. \nGrass clippings\, leaves\, and brush must be bagged separately in yard-waste paper bag. \nBranches must be tied in bundles or placed in brown paper bags (only branches up to 4″ in diameter and 6′ in length will be picked up). \nFor more information on recycling\, visit: www.gaithersburgmd.gov/services/recycling-bulk-pickup \n*Service provided by the City of Gaithersburg.
URL:https://woodlandhillsmd.com/calendar/recycling-yard-waste-pickup-13/
CATEGORIES:Recycling Pickup
END:VEVENT
BEGIN:VEVENT
DTSTART;VALUE=DATE:20250218
DTEND;VALUE=DATE:20250219
DTSTAMP:20260425T005633
CREATED:20250111T193248Z
LAST-MODIFIED:20250218T193003Z
UID:1330-1739836800-1739923199@woodlandhillsmd.com
SUMMARY:Recycling/Yard Waste Pickup
DESCRIPTION:Recycling bins and yard waste may be put out the evening prior to next-day pickup. \nGrass clippings\, leaves\, and brush must be bagged separately in yard-waste paper bag. \nBranches must be tied in bundles or placed in brown paper bags (only branches up to 4″ in diameter and 6′ in length will be picked up). \nFor more information on recycling\, visit: www.gaithersburgmd.gov/services/recycling-bulk-pickup \n*Service provided by the City of Gaithersburg.
URL:https://woodlandhillsmd.com/calendar/recycling-yard-waste-pickup-12/
CATEGORIES:Recycling Pickup
END:VEVENT
BEGIN:VEVENT
DTSTART;VALUE=DATE:20250211
DTEND;VALUE=DATE:20250212
DTSTAMP:20260425T005633
CREATED:20250111T193227Z
LAST-MODIFIED:20250111T193227Z
UID:1328-1739232000-1739318399@woodlandhillsmd.com
SUMMARY:Recycling/Yard Waste Pickup
DESCRIPTION:Recycling bins and yard waste may be put out the evening prior to next-day pickup. \nGrass clippings\, leaves\, and brush must be bagged separately in yard-waste paper bag. \nBranches must be tied in bundles or placed in brown paper bags (only branches up to 4″ in diameter and 6′ in length will be picked up). \nFor more information on recycling\, visit: www.gaithersburgmd.gov/services/recycling-bulk-pick-up \n*Service provided by the City of Gaithersburg.
URL:https://woodlandhillsmd.com/calendar/recycling-yard-waste-pickup-11/
CATEGORIES:Recycling Pickup
END:VEVENT
BEGIN:VEVENT
DTSTART;VALUE=DATE:20250204
DTEND;VALUE=DATE:20250205
DTSTAMP:20260425T005633
CREATED:20250111T193149Z
LAST-MODIFIED:20250111T193149Z
UID:1326-1738627200-1738713599@woodlandhillsmd.com
SUMMARY:Recycling/Yard Waste Pickup
DESCRIPTION:Recycling bins and yard waste may be put out the evening prior to next-day pickup. \nGrass clippings\, leaves\, and brush must be bagged separately in yard-waste paper bag. \nBranches must be tied in bundles or placed in brown paper bags (only branches up to 4″ in diameter and 6′ in length will be picked up). \nFor more information on recycling\, visit: www.gaithersburgmd.gov/services/recycling-bulk-pick-up \n*Service provided by the City of Gaithersburg.
URL:https://woodlandhillsmd.com/calendar/recycling-yard-waste-pickup-10/
CATEGORIES:Recycling Pickup
END:VEVENT
BEGIN:VEVENT
DTSTART;VALUE=DATE:20250128
DTEND;VALUE=DATE:20250129
DTSTAMP:20260425T005633
CREATED:20241217T202209Z
LAST-MODIFIED:20241217T202209Z
UID:1184-1738022400-1738108799@woodlandhillsmd.com
SUMMARY:Recycling/Yard Waste Pickup
DESCRIPTION:Recycling bins and yard waste may be put out the evening prior to next-day pickup. \nGrass clippings\, leaves\, and brush must be bagged separately in yard-waste paper bag. \nBranches must be tied in bundles or placed in brown paper bags (only branches up to 4″ in diameter and 6′ in length will be picked up). \nFor more information on recycling\, visit: www.gaithersburgmd.gov/services/recycling-bulk-pick-up \n*Service provided by the City of Gaithersburg.
URL:https://woodlandhillsmd.com/calendar/recycling-yard-waste-pickup-9/
CATEGORIES:Recycling Pickup
END:VEVENT
BEGIN:VEVENT
DTSTART;VALUE=DATE:20250121
DTEND;VALUE=DATE:20250122
DTSTAMP:20260425T005633
CREATED:20241217T202152Z
LAST-MODIFIED:20241217T202152Z
UID:1182-1737417600-1737503999@woodlandhillsmd.com
SUMMARY:Recycling/Yard Waste Pickup
DESCRIPTION:Recycling bins and yard waste may be put out the evening prior to next-day pickup. \nGrass clippings\, leaves\, and brush must be bagged separately in yard-waste paper bag. \nBranches must be tied in bundles or placed in brown paper bags (only branches up to 4″ in diameter and 6′ in length will be picked up). \nFor more information on recycling\, visit: www.gaithersburgmd.gov/services/recycling-bulk-pick-up \n*Service provided by the City of Gaithersburg.
URL:https://woodlandhillsmd.com/calendar/recycling-yard-waste-pickup-8/
CATEGORIES:Recycling Pickup
END:VEVENT
BEGIN:VEVENT
DTSTART;VALUE=DATE:20250114
DTEND;VALUE=DATE:20250115
DTSTAMP:20260425T005633
CREATED:20241217T202137Z
LAST-MODIFIED:20241217T202137Z
UID:1180-1736812800-1736899199@woodlandhillsmd.com
SUMMARY:Recycling/Yard Waste Pickup
DESCRIPTION:Recycling bins and yard waste may be put out the evening prior to next-day pickup. \nGrass clippings\, leaves\, and brush must be bagged separately in yard-waste paper bag. \nBranches must be tied in bundles or placed in brown paper bags (only branches up to 4″ in diameter and 6′ in length will be picked up). \nFor more information on recycling\, visit: www.gaithersburgmd.gov/services/recycling-bulk-pick-up \n*Service provided by the City of Gaithersburg.
URL:https://woodlandhillsmd.com/calendar/recycling-yard-waste-pickup-7/
CATEGORIES:Recycling Pickup
END:VEVENT
BEGIN:VEVENT
DTSTART;VALUE=DATE:20250107
DTEND;VALUE=DATE:20250108
DTSTAMP:20260425T005633
CREATED:20241217T201804Z
LAST-MODIFIED:20250107T201606Z
UID:1176-1736208000-1736294399@woodlandhillsmd.com
SUMMARY:CANCELED: Recycling/Yard Waste Pickup
DESCRIPTION:Take your recycling bin back in. Due to weather conditions\, recycling and yard waste collection has been canceled. \nFor more information on recycling\, visit: www.gaithersburgmd.gov/services/recycling-bulk-pick-up \n*Service provided by the City of Gaithersburg.
URL:https://woodlandhillsmd.com/calendar/recycling-yard-waste-pickup-5/
CATEGORIES:Recycling Pickup
END:VEVENT
BEGIN:VEVENT
DTSTART;VALUE=DATE:20241224
DTEND;VALUE=DATE:20241225
DTSTAMP:20260425T005633
CREATED:20241217T201746Z
LAST-MODIFIED:20241217T201746Z
UID:1174-1734998400-1735084799@woodlandhillsmd.com
SUMMARY:Recycling/Yard Waste Pickup
DESCRIPTION:Recycling bins and yard waste may be put out the evening prior to next-day pickup. \nGrass clippings\, leaves\, and brush must be bagged separately in yard-waste paper bag. \nBranches must be tied in bundles or placed in brown paper bags (only branches up to 4″ in diameter and 6′ in length will be picked up). \nFor more information on recycling\, visit: www.gaithersburgmd.gov/services/recycling-bulk-pick-up \n*Service provided by the City of Gaithersburg.
URL:https://woodlandhillsmd.com/calendar/recycling-yard-waste-pickup-4/
CATEGORIES:Recycling Pickup
END:VEVENT
BEGIN:VEVENT
DTSTART;VALUE=DATE:20241217
DTEND;VALUE=DATE:20241218
DTSTAMP:20260425T005633
CREATED:20241217T201729Z
LAST-MODIFIED:20241217T201729Z
UID:1172-1734393600-1734479999@woodlandhillsmd.com
SUMMARY:Recycling/Yard Waste Pickup
DESCRIPTION:Recycling bins and yard waste may be put out the evening prior to next-day pickup. \nGrass clippings\, leaves\, and brush must be bagged separately in yard-waste paper bag. \nBranches must be tied in bundles or placed in brown paper bags (only branches up to 4″ in diameter and 6′ in length will be picked up). \nFor more information on recycling\, visit: www.gaithersburgmd.gov/services/recycling-bulk-pick-up \n*Service provided by the City of Gaithersburg.
URL:https://woodlandhillsmd.com/calendar/recycling-yard-waste-pickup-3/
CATEGORIES:Recycling Pickup
END:VEVENT
BEGIN:VEVENT
DTSTART;VALUE=DATE:20241210
DTEND;VALUE=DATE:20241211
DTSTAMP:20260425T005633
CREATED:20241217T201656Z
LAST-MODIFIED:20241217T201656Z
UID:1170-1733788800-1733875199@woodlandhillsmd.com
SUMMARY:Recycling/Yard Waste Pickup
DESCRIPTION:Recycling bins and yard waste may be put out the evening prior to next-day pickup. \nGrass clippings\, leaves\, and brush must be bagged separately in yard-waste paper bag. \nBranches must be tied in bundles or placed in brown paper bags (only branches up to 4″ in diameter and 6′ in length will be picked up). \nFor more information on recycling\, visit: www.gaithersburgmd.gov/services/recycling-bulk-pick-up \n*Service provided by the City of Gaithersburg.
URL:https://woodlandhillsmd.com/calendar/recycling-yard-waste-pickup-2/
CATEGORIES:Recycling Pickup
END:VEVENT
BEGIN:VEVENT
DTSTART;VALUE=DATE:20241203
DTEND;VALUE=DATE:20241204
DTSTAMP:20260425T005633
CREATED:20241217T201152Z
LAST-MODIFIED:20241217T201441Z
UID:1164-1733184000-1733270399@woodlandhillsmd.com
SUMMARY:Recycling/Yard Waste Pickup
DESCRIPTION:Recycling bins and yard waste may be put out the evening prior to next-day pickup. \nGrass clippings\, leaves\, and brush must be bagged separately in yard-waste paper bag. \nBranches must be tied in bundles or placed in brown paper bags (only branches up to 4″ in diameter and 6′ in length will be picked up). \nFor more information on recycling\, visit: www.gaithersburgmd.gov/services/recycling-bulk-pick-up \n*Service provided by the City of Gaithersburg.
URL:https://woodlandhillsmd.com/calendar/recycling-yard-waste-pickup/
CATEGORIES:Recycling Pickup
END:VEVENT
END:VCALENDAR