BEGIN:VCALENDAR
VERSION:2.0
PRODID:-//Woodland Hills HOA - ECPv6.15.20//NONSGML v1.0//EN
CALSCALE:GREGORIAN
METHOD:PUBLISH
X-WR-CALNAME:Woodland Hills HOA
X-ORIGINAL-URL:https://woodlandhillsmd.com
X-WR-CALDESC:Events for Woodland Hills HOA
REFRESH-INTERVAL;VALUE=DURATION:PT1H
X-Robots-Tag:noindex
X-PUBLISHED-TTL:PT1H
BEGIN:VTIMEZONE
TZID:UTC
BEGIN:STANDARD
TZOFFSETFROM:+0000
TZOFFSETTO:+0000
TZNAME:UTC
DTSTART:20240101T000000
END:STANDARD
END:VTIMEZONE
BEGIN:VEVENT
DTSTART;VALUE=DATE:20260106
DTEND;VALUE=DATE:20260107
DTSTAMP:20260424T205231
CREATED:20251124T205740Z
LAST-MODIFIED:20251124T205740Z
UID:1929-1767657600-1767743999@woodlandhillsmd.com
SUMMARY:Recycling/Yard Waste Pickup
DESCRIPTION:Recycling bins and yard waste may be put out the evening prior to next-day pickup. \nGrass clippings\, leaves\, and brush must be bagged separately in yard-waste paper bag. \nBranches must be tied in bundles or placed in brown paper bags (only branches up to 4″ in diameter and 6′ in length will be picked up). \nFor more information on recycling\, visit: www.gaithersburgmd.gov/services/recycling-bulk-pickup \n*Service provided by the City of Gaithersburg.
URL:https://woodlandhillsmd.com/calendar/recycling-yard-waste-pickup-58/
CATEGORIES:Recycling Pickup
END:VEVENT
BEGIN:VEVENT
DTSTART;VALUE=DATE:20251230
DTEND;VALUE=DATE:20251231
DTSTAMP:20260424T205231
CREATED:20251124T205508Z
LAST-MODIFIED:20251124T205508Z
UID:1927-1767052800-1767139199@woodlandhillsmd.com
SUMMARY:Recycling/Yard Waste Pickup
DESCRIPTION:Recycling bins and yard waste may be put out the evening prior to next-day pickup. \nGrass clippings\, leaves\, and brush must be bagged separately in yard-waste paper bag. \nBranches must be tied in bundles or placed in brown paper bags (only branches up to 4″ in diameter and 6′ in length will be picked up). \nFor more information on recycling\, visit: www.gaithersburgmd.gov/services/recycling-bulk-pickup \n*Service provided by the City of Gaithersburg.
URL:https://woodlandhillsmd.com/calendar/recycling-yard-waste-pickup-57/
CATEGORIES:Recycling Pickup
END:VEVENT
BEGIN:VEVENT
DTSTART;VALUE=DATE:20251223
DTEND;VALUE=DATE:20251224
DTSTAMP:20260424T205231
CREATED:20251124T205451Z
LAST-MODIFIED:20251124T205451Z
UID:1925-1766448000-1766534399@woodlandhillsmd.com
SUMMARY:Recycling/Yard Waste Pickup
DESCRIPTION:Recycling bins and yard waste may be put out the evening prior to next-day pickup. \nGrass clippings\, leaves\, and brush must be bagged separately in yard-waste paper bag. \nBranches must be tied in bundles or placed in brown paper bags (only branches up to 4″ in diameter and 6′ in length will be picked up). \nFor more information on recycling\, visit: www.gaithersburgmd.gov/services/recycling-bulk-pickup \n*Service provided by the City of Gaithersburg.
URL:https://woodlandhillsmd.com/calendar/recycling-yard-waste-pickup-56/
CATEGORIES:Recycling Pickup
END:VEVENT
BEGIN:VEVENT
DTSTART;VALUE=DATE:20251216
DTEND;VALUE=DATE:20251217
DTSTAMP:20260424T205231
CREATED:20251124T205424Z
LAST-MODIFIED:20251124T205424Z
UID:1923-1765843200-1765929599@woodlandhillsmd.com
SUMMARY:Recycling/Yard Waste Pickup
DESCRIPTION:Recycling bins and yard waste may be put out the evening prior to next-day pickup. \nGrass clippings\, leaves\, and brush must be bagged separately in yard-waste paper bag. \nBranches must be tied in bundles or placed in brown paper bags (only branches up to 4″ in diameter and 6′ in length will be picked up). \nFor more information on recycling\, visit: www.gaithersburgmd.gov/services/recycling-bulk-pickup \n*Service provided by the City of Gaithersburg.
URL:https://woodlandhillsmd.com/calendar/recycling-yard-waste-pickup-55/
CATEGORIES:Recycling Pickup
END:VEVENT
BEGIN:VEVENT
DTSTART;VALUE=DATE:20251209
DTEND;VALUE=DATE:20251210
DTSTAMP:20260424T205231
CREATED:20251124T205348Z
LAST-MODIFIED:20251124T205404Z
UID:1921-1765238400-1765324799@woodlandhillsmd.com
SUMMARY:Recycling/Yard Waste Pickup
DESCRIPTION:Recycling bins and yard waste may be put out the evening prior to next-day pickup. \nGrass clippings\, leaves\, and brush must be bagged separately in yard-waste paper bag. \nBranches must be tied in bundles or placed in brown paper bags (only branches up to 4″ in diameter and 6′ in length will be picked up). \nFor more information on recycling\, visit: www.gaithersburgmd.gov/services/recycling-bulk-pickup \n*Service provided by the City of Gaithersburg.
URL:https://woodlandhillsmd.com/calendar/recycling-yard-waste-pickup-54/
CATEGORIES:Recycling Pickup
END:VEVENT
BEGIN:VEVENT
DTSTART;VALUE=DATE:20251202
DTEND;VALUE=DATE:20251203
DTSTAMP:20260424T205231
CREATED:20251124T205322Z
LAST-MODIFIED:20251124T205322Z
UID:1919-1764633600-1764719999@woodlandhillsmd.com
SUMMARY:Recycling/Yard Waste Pickup
DESCRIPTION:Recycling bins and yard waste may be put out the evening prior to next-day pickup. \nGrass clippings\, leaves\, and brush must be bagged separately in yard-waste paper bag. \nBranches must be tied in bundles or placed in brown paper bags (only branches up to 4″ in diameter and 6′ in length will be picked up). \nFor more information on recycling\, visit: www.gaithersburgmd.gov/services/recycling-bulk-pickup \n*Service provided by the City of Gaithersburg.
URL:https://woodlandhillsmd.com/calendar/recycling-yard-waste-pickup-53/
CATEGORIES:Recycling Pickup
END:VEVENT
BEGIN:VEVENT
DTSTART;VALUE=DATE:20251125
DTEND;VALUE=DATE:20251126
DTSTAMP:20260424T205231
CREATED:20251124T204200Z
LAST-MODIFIED:20251124T204200Z
UID:1887-1764028800-1764115199@woodlandhillsmd.com
SUMMARY:Recycling/Yard Waste Pickup
DESCRIPTION:Recycling bins and yard waste may be put out the evening prior to next-day pickup. \nGrass clippings\, leaves\, and brush must be bagged separately in yard-waste paper bag. \nBranches must be tied in bundles or placed in brown paper bags (only branches up to 4″ in diameter and 6′ in length will be picked up). \nFor more information on recycling\, visit: www.gaithersburgmd.gov/services/recycling-bulk-pickup \n*Service provided by the City of Gaithersburg.
URL:https://woodlandhillsmd.com/calendar/recycling-yard-waste-pickup-52/
CATEGORIES:Recycling Pickup
END:VEVENT
BEGIN:VEVENT
DTSTART;VALUE=DATE:20251118
DTEND;VALUE=DATE:20251119
DTSTAMP:20260424T205231
CREATED:20251124T204143Z
LAST-MODIFIED:20251124T204143Z
UID:1885-1763424000-1763510399@woodlandhillsmd.com
SUMMARY:Recycling/Yard Waste Pickup
DESCRIPTION:Recycling bins and yard waste may be put out the evening prior to next-day pickup. \nGrass clippings\, leaves\, and brush must be bagged separately in yard-waste paper bag. \nBranches must be tied in bundles or placed in brown paper bags (only branches up to 4″ in diameter and 6′ in length will be picked up). \nFor more information on recycling\, visit: www.gaithersburgmd.gov/services/recycling-bulk-pickup \n*Service provided by the City of Gaithersburg.
URL:https://woodlandhillsmd.com/calendar/recycling-yard-waste-pickup-51/
CATEGORIES:Recycling Pickup
END:VEVENT
BEGIN:VEVENT
DTSTART;VALUE=DATE:20251111
DTEND;VALUE=DATE:20251112
DTSTAMP:20260424T205231
CREATED:20251124T204127Z
LAST-MODIFIED:20251124T204127Z
UID:1883-1762819200-1762905599@woodlandhillsmd.com
SUMMARY:Recycling/Yard Waste Pickup
DESCRIPTION:Recycling bins and yard waste may be put out the evening prior to next-day pickup. \nGrass clippings\, leaves\, and brush must be bagged separately in yard-waste paper bag. \nBranches must be tied in bundles or placed in brown paper bags (only branches up to 4″ in diameter and 6′ in length will be picked up). \nFor more information on recycling\, visit: www.gaithersburgmd.gov/services/recycling-bulk-pickup \n*Service provided by the City of Gaithersburg.
URL:https://woodlandhillsmd.com/calendar/recycling-yard-waste-pickup-50/
CATEGORIES:Recycling Pickup
END:VEVENT
BEGIN:VEVENT
DTSTART;VALUE=DATE:20251104
DTEND;VALUE=DATE:20251105
DTSTAMP:20260424T205231
CREATED:20251124T204109Z
LAST-MODIFIED:20251124T204109Z
UID:1881-1762214400-1762300799@woodlandhillsmd.com
SUMMARY:Recycling/Yard Waste Pickup
DESCRIPTION:Recycling bins and yard waste may be put out the evening prior to next-day pickup. \nGrass clippings\, leaves\, and brush must be bagged separately in yard-waste paper bag. \nBranches must be tied in bundles or placed in brown paper bags (only branches up to 4″ in diameter and 6′ in length will be picked up). \nFor more information on recycling\, visit: www.gaithersburgmd.gov/services/recycling-bulk-pickup \n*Service provided by the City of Gaithersburg.
URL:https://woodlandhillsmd.com/calendar/recycling-yard-waste-pickup-49/
CATEGORIES:Recycling Pickup
END:VEVENT
BEGIN:VEVENT
DTSTART;VALUE=DATE:20251028
DTEND;VALUE=DATE:20251029
DTSTAMP:20260424T205231
CREATED:20251006T222414Z
LAST-MODIFIED:20251006T222414Z
UID:1858-1761609600-1761695999@woodlandhillsmd.com
SUMMARY:Recycling/Yard Waste Pickup
DESCRIPTION:Recycling bins and yard waste may be put out the evening prior to next-day pickup. \nGrass clippings\, leaves\, and brush must be bagged separately in yard-waste paper bag. \nBranches must be tied in bundles or placed in brown paper bags (only branches up to 4″ in diameter and 6′ in length will be picked up). \nFor more information on recycling\, visit: www.gaithersburgmd.gov/services/recycling-bulk-pickup \n*Service provided by the City of Gaithersburg.
URL:https://woodlandhillsmd.com/calendar/recycling-yard-waste-pickup-48/
CATEGORIES:Recycling Pickup
END:VEVENT
BEGIN:VEVENT
DTSTART;VALUE=DATE:20251021
DTEND;VALUE=DATE:20251022
DTSTAMP:20260424T205231
CREATED:20251006T222329Z
LAST-MODIFIED:20251006T222329Z
UID:1856-1761004800-1761091199@woodlandhillsmd.com
SUMMARY:Recycling/Yard Waste Pickup
DESCRIPTION:Recycling bins and yard waste may be put out the evening prior to next-day pickup. \nGrass clippings\, leaves\, and brush must be bagged separately in yard-waste paper bag. \nBranches must be tied in bundles or placed in brown paper bags (only branches up to 4″ in diameter and 6′ in length will be picked up). \nFor more information on recycling\, visit: www.gaithersburgmd.gov/services/recycling-bulk-pickup \n*Service provided by the City of Gaithersburg.
URL:https://woodlandhillsmd.com/calendar/recycling-yard-waste-pickup-47/
CATEGORIES:Recycling Pickup
END:VEVENT
BEGIN:VEVENT
DTSTART;VALUE=DATE:20251014
DTEND;VALUE=DATE:20251015
DTSTAMP:20260424T205231
CREATED:20251006T222242Z
LAST-MODIFIED:20251006T222242Z
UID:1854-1760400000-1760486399@woodlandhillsmd.com
SUMMARY:Recycling/Yard Waste Pickup
DESCRIPTION:Recycling bins and yard waste may be put out the evening prior to next-day pickup. \nGrass clippings\, leaves\, and brush must be bagged separately in yard-waste paper bag. \nBranches must be tied in bundles or placed in brown paper bags (only branches up to 4″ in diameter and 6′ in length will be picked up). \nFor more information on recycling\, visit: www.gaithersburgmd.gov/services/recycling-bulk-pickup \n*Service provided by the City of Gaithersburg.
URL:https://woodlandhillsmd.com/calendar/recycling-yard-waste-pickup-46/
CATEGORIES:Recycling Pickup
END:VEVENT
BEGIN:VEVENT
DTSTART;VALUE=DATE:20251007
DTEND;VALUE=DATE:20251008
DTSTAMP:20260424T205231
CREATED:20251006T222202Z
LAST-MODIFIED:20251006T222202Z
UID:1852-1759795200-1759881599@woodlandhillsmd.com
SUMMARY:Recycling/Yard Waste Pickup
DESCRIPTION:Recycling bins and yard waste may be put out the evening prior to next-day pickup. \nGrass clippings\, leaves\, and brush must be bagged separately in yard-waste paper bag. \nBranches must be tied in bundles or placed in brown paper bags (only branches up to 4″ in diameter and 6′ in length will be picked up). \nFor more information on recycling\, visit: www.gaithersburgmd.gov/services/recycling-bulk-pickup \n*Service provided by the City of Gaithersburg.
URL:https://woodlandhillsmd.com/calendar/recycling-yard-waste-pickup-45/
CATEGORIES:Recycling Pickup
END:VEVENT
BEGIN:VEVENT
DTSTART;VALUE=DATE:20250930
DTEND;VALUE=DATE:20251001
DTSTAMP:20260424T205231
CREATED:20250902T163410Z
LAST-MODIFIED:20250902T163410Z
UID:1818-1759190400-1759276799@woodlandhillsmd.com
SUMMARY:Recycling/Yard Waste Pickup
DESCRIPTION:Recycling bins and yard waste may be put out the evening prior to next-day pickup. \nGrass clippings\, leaves\, and brush must be bagged separately in yard-waste paper bag. \nBranches must be tied in bundles or placed in brown paper bags (only branches up to 4″ in diameter and 6′ in length will be picked up). \nFor more information on recycling\, visit: www.gaithersburgmd.gov/services/recycling-bulk-pickup \n*Service provided by the City of Gaithersburg.
URL:https://woodlandhillsmd.com/calendar/recycling-yard-waste-pickup-44/
CATEGORIES:Recycling Pickup
END:VEVENT
BEGIN:VEVENT
DTSTART;VALUE=DATE:20250923
DTEND;VALUE=DATE:20250924
DTSTAMP:20260424T205231
CREATED:20250902T163354Z
LAST-MODIFIED:20250902T163354Z
UID:1816-1758585600-1758671999@woodlandhillsmd.com
SUMMARY:Recycling/Yard Waste Pickup
DESCRIPTION:Recycling bins and yard waste may be put out the evening prior to next-day pickup. \nGrass clippings\, leaves\, and brush must be bagged separately in yard-waste paper bag. \nBranches must be tied in bundles or placed in brown paper bags (only branches up to 4″ in diameter and 6′ in length will be picked up). \nFor more information on recycling\, visit: www.gaithersburgmd.gov/services/recycling-bulk-pickup \n*Service provided by the City of Gaithersburg.
URL:https://woodlandhillsmd.com/calendar/recycling-yard-waste-pickup-43/
CATEGORIES:Recycling Pickup
END:VEVENT
BEGIN:VEVENT
DTSTART;VALUE=DATE:20250916
DTEND;VALUE=DATE:20250917
DTSTAMP:20260424T205231
CREATED:20250902T163331Z
LAST-MODIFIED:20250902T163331Z
UID:1814-1757980800-1758067199@woodlandhillsmd.com
SUMMARY:Recycling/Yard Waste Pickup
DESCRIPTION:Recycling bins and yard waste may be put out the evening prior to next-day pickup. \nGrass clippings\, leaves\, and brush must be bagged separately in yard-waste paper bag. \nBranches must be tied in bundles or placed in brown paper bags (only branches up to 4″ in diameter and 6′ in length will be picked up). \nFor more information on recycling\, visit: www.gaithersburgmd.gov/services/recycling-bulk-pickup \n*Service provided by the City of Gaithersburg.
URL:https://woodlandhillsmd.com/calendar/recycling-yard-waste-pickup-42/
CATEGORIES:Recycling Pickup
END:VEVENT
BEGIN:VEVENT
DTSTART;VALUE=DATE:20250909
DTEND;VALUE=DATE:20250910
DTSTAMP:20260424T205231
CREATED:20250902T163313Z
LAST-MODIFIED:20250902T163313Z
UID:1812-1757376000-1757462399@woodlandhillsmd.com
SUMMARY:Recycling/Yard Waste Pickup
DESCRIPTION:Recycling bins and yard waste may be put out the evening prior to next-day pickup. \nGrass clippings\, leaves\, and brush must be bagged separately in yard-waste paper bag. \nBranches must be tied in bundles or placed in brown paper bags (only branches up to 4″ in diameter and 6′ in length will be picked up). \nFor more information on recycling\, visit: www.gaithersburgmd.gov/services/recycling-bulk-pickup \n*Service provided by the City of Gaithersburg.
URL:https://woodlandhillsmd.com/calendar/recycling-yard-waste-pickup-41/
CATEGORIES:Recycling Pickup
END:VEVENT
BEGIN:VEVENT
DTSTART;VALUE=DATE:20250902
DTEND;VALUE=DATE:20250903
DTSTAMP:20260424T205231
CREATED:20250902T163251Z
LAST-MODIFIED:20250902T163251Z
UID:1810-1756771200-1756857599@woodlandhillsmd.com
SUMMARY:Recycling/Yard Waste Pickup
DESCRIPTION:Recycling bins and yard waste may be put out the evening prior to next-day pickup. \nGrass clippings\, leaves\, and brush must be bagged separately in yard-waste paper bag. \nBranches must be tied in bundles or placed in brown paper bags (only branches up to 4″ in diameter and 6′ in length will be picked up). \nFor more information on recycling\, visit: www.gaithersburgmd.gov/services/recycling-bulk-pickup \n*Service provided by the City of Gaithersburg.
URL:https://woodlandhillsmd.com/calendar/recycling-yard-waste-pickup-40/
CATEGORIES:Recycling Pickup
END:VEVENT
BEGIN:VEVENT
DTSTART;VALUE=DATE:20250826
DTEND;VALUE=DATE:20250827
DTSTAMP:20260424T205231
CREATED:20250801T164731Z
LAST-MODIFIED:20250801T164731Z
UID:1787-1756166400-1756252799@woodlandhillsmd.com
SUMMARY:Recycling/Yard Waste Pickup
DESCRIPTION:Recycling bins and yard waste may be put out the evening prior to next-day pickup. \nGrass clippings\, leaves\, and brush must be bagged separately in yard-waste paper bag. \nBranches must be tied in bundles or placed in brown paper bags (only branches up to 4″ in diameter and 6′ in length will be picked up). \nFor more information on recycling\, visit: www.gaithersburgmd.gov/services/recycling-bulk-pickup \n*Service provided by the City of Gaithersburg.
URL:https://woodlandhillsmd.com/calendar/recycling-yard-waste-pickup-39/
CATEGORIES:Recycling Pickup
END:VEVENT
BEGIN:VEVENT
DTSTART;VALUE=DATE:20250819
DTEND;VALUE=DATE:20250820
DTSTAMP:20260424T205231
CREATED:20250801T164714Z
LAST-MODIFIED:20250801T164714Z
UID:1785-1755561600-1755647999@woodlandhillsmd.com
SUMMARY:Recycling/Yard Waste Pickup
DESCRIPTION:Recycling bins and yard waste may be put out the evening prior to next-day pickup. \nGrass clippings\, leaves\, and brush must be bagged separately in yard-waste paper bag. \nBranches must be tied in bundles or placed in brown paper bags (only branches up to 4″ in diameter and 6′ in length will be picked up). \nFor more information on recycling\, visit: www.gaithersburgmd.gov/services/recycling-bulk-pickup \n*Service provided by the City of Gaithersburg.
URL:https://woodlandhillsmd.com/calendar/recycling-yard-waste-pickup-38/
CATEGORIES:Recycling Pickup
END:VEVENT
BEGIN:VEVENT
DTSTART;VALUE=DATE:20250812
DTEND;VALUE=DATE:20250813
DTSTAMP:20260424T205231
CREATED:20250801T164657Z
LAST-MODIFIED:20250801T164657Z
UID:1783-1754956800-1755043199@woodlandhillsmd.com
SUMMARY:Recycling/Yard Waste Pickup
DESCRIPTION:Recycling bins and yard waste may be put out the evening prior to next-day pickup. \nGrass clippings\, leaves\, and brush must be bagged separately in yard-waste paper bag. \nBranches must be tied in bundles or placed in brown paper bags (only branches up to 4″ in diameter and 6′ in length will be picked up). \nFor more information on recycling\, visit: www.gaithersburgmd.gov/services/recycling-bulk-pickup \n*Service provided by the City of Gaithersburg.
URL:https://woodlandhillsmd.com/calendar/recycling-yard-waste-pickup-37/
CATEGORIES:Recycling Pickup
END:VEVENT
BEGIN:VEVENT
DTSTART;VALUE=DATE:20250805
DTEND;VALUE=DATE:20250806
DTSTAMP:20260424T205231
CREATED:20250801T164632Z
LAST-MODIFIED:20250801T164632Z
UID:1781-1754352000-1754438399@woodlandhillsmd.com
SUMMARY:Recycling/Yard Waste Pickup
DESCRIPTION:Recycling bins and yard waste may be put out the evening prior to next-day pickup. \nGrass clippings\, leaves\, and brush must be bagged separately in yard-waste paper bag. \nBranches must be tied in bundles or placed in brown paper bags (only branches up to 4″ in diameter and 6′ in length will be picked up). \nFor more information on recycling\, visit: www.gaithersburgmd.gov/services/recycling-bulk-pickup \n*Service provided by the City of Gaithersburg.
URL:https://woodlandhillsmd.com/calendar/recycling-yard-waste-pickup-36/
CATEGORIES:Recycling Pickup
END:VEVENT
BEGIN:VEVENT
DTSTART;VALUE=DATE:20250729
DTEND;VALUE=DATE:20250730
DTSTAMP:20260424T205231
CREATED:20250619T162219Z
LAST-MODIFIED:20250619T162219Z
UID:1738-1753747200-1753833599@woodlandhillsmd.com
SUMMARY:Recycling/Yard Waste Pickup
DESCRIPTION:Recycling bins and yard waste may be put out the evening prior to next-day pickup. \nGrass clippings\, leaves\, and brush must be bagged separately in yard-waste paper bag. \nBranches must be tied in bundles or placed in brown paper bags (only branches up to 4″ in diameter and 6′ in length will be picked up). \nFor more information on recycling\, visit: www.gaithersburgmd.gov/services/recycling-bulk-pickup \n*Service provided by the City of Gaithersburg.
URL:https://woodlandhillsmd.com/calendar/recycling-yard-waste-pickup-35/
CATEGORIES:Recycling Pickup
END:VEVENT
BEGIN:VEVENT
DTSTART;VALUE=DATE:20250722
DTEND;VALUE=DATE:20250723
DTSTAMP:20260424T205231
CREATED:20250619T162205Z
LAST-MODIFIED:20250619T162205Z
UID:1736-1753142400-1753228799@woodlandhillsmd.com
SUMMARY:Recycling/Yard Waste Pickup
DESCRIPTION:Recycling bins and yard waste may be put out the evening prior to next-day pickup. \nGrass clippings\, leaves\, and brush must be bagged separately in yard-waste paper bag. \nBranches must be tied in bundles or placed in brown paper bags (only branches up to 4″ in diameter and 6′ in length will be picked up). \nFor more information on recycling\, visit: www.gaithersburgmd.gov/services/recycling-bulk-pickup \n*Service provided by the City of Gaithersburg.
URL:https://woodlandhillsmd.com/calendar/recycling-yard-waste-pickup-34/
CATEGORIES:Recycling Pickup
END:VEVENT
BEGIN:VEVENT
DTSTART;VALUE=DATE:20250715
DTEND;VALUE=DATE:20250716
DTSTAMP:20260424T205231
CREATED:20250619T162135Z
LAST-MODIFIED:20250619T162135Z
UID:1734-1752537600-1752623999@woodlandhillsmd.com
SUMMARY:Recycling/Yard Waste Pickup
DESCRIPTION:Recycling bins and yard waste may be put out the evening prior to next-day pickup. \nGrass clippings\, leaves\, and brush must be bagged separately in yard-waste paper bag. \nBranches must be tied in bundles or placed in brown paper bags (only branches up to 4″ in diameter and 6′ in length will be picked up). \nFor more information on recycling\, visit: www.gaithersburgmd.gov/services/recycling-bulk-pickup \n*Service provided by the City of Gaithersburg.
URL:https://woodlandhillsmd.com/calendar/recycling-yard-waste-pickup-33/
CATEGORIES:Recycling Pickup
END:VEVENT
BEGIN:VEVENT
DTSTART;VALUE=DATE:20250708
DTEND;VALUE=DATE:20250709
DTSTAMP:20260424T205231
CREATED:20250619T162119Z
LAST-MODIFIED:20250619T162119Z
UID:1732-1751932800-1752019199@woodlandhillsmd.com
SUMMARY:Recycling/Yard Waste Pickup
DESCRIPTION:Recycling bins and yard waste may be put out the evening prior to next-day pickup. \nGrass clippings\, leaves\, and brush must be bagged separately in yard-waste paper bag. \nBranches must be tied in bundles or placed in brown paper bags (only branches up to 4″ in diameter and 6′ in length will be picked up). \nFor more information on recycling\, visit: www.gaithersburgmd.gov/services/recycling-bulk-pickup \n*Service provided by the City of Gaithersburg.
URL:https://woodlandhillsmd.com/calendar/recycling-yard-waste-pickup-32/
CATEGORIES:Recycling Pickup
END:VEVENT
BEGIN:VEVENT
DTSTART;VALUE=DATE:20250701
DTEND;VALUE=DATE:20250702
DTSTAMP:20260424T205231
CREATED:20250619T162053Z
LAST-MODIFIED:20250619T162053Z
UID:1730-1751328000-1751414399@woodlandhillsmd.com
SUMMARY:Recycling/Yard Waste Pickup
DESCRIPTION:Recycling bins and yard waste may be put out the evening prior to next-day pickup. \nGrass clippings\, leaves\, and brush must be bagged separately in yard-waste paper bag. \nBranches must be tied in bundles or placed in brown paper bags (only branches up to 4″ in diameter and 6′ in length will be picked up). \nFor more information on recycling\, visit: www.gaithersburgmd.gov/services/recycling-bulk-pickup \n*Service provided by the City of Gaithersburg.
URL:https://woodlandhillsmd.com/calendar/recycling-yard-waste-pickup-31/
CATEGORIES:Recycling Pickup
END:VEVENT
BEGIN:VEVENT
DTSTART;VALUE=DATE:20250624
DTEND;VALUE=DATE:20250625
DTSTAMP:20260424T205231
CREATED:20250520T220639Z
LAST-MODIFIED:20250520T220639Z
UID:1604-1750723200-1750809599@woodlandhillsmd.com
SUMMARY:Recycling/Yard Waste Pickup
DESCRIPTION:Recycling bins and yard waste may be put out the evening prior to next-day pickup. \nGrass clippings\, leaves\, and brush must be bagged separately in yard-waste paper bag. \nBranches must be tied in bundles or placed in brown paper bags (only branches up to 4″ in diameter and 6′ in length will be picked up). \nFor more information on recycling\, visit: www.gaithersburgmd.gov/services/recycling-bulk-pickup \n*Service provided by the City of Gaithersburg.
URL:https://woodlandhillsmd.com/calendar/recycling-yard-waste-pickup-30/
CATEGORIES:Recycling Pickup
END:VEVENT
BEGIN:VEVENT
DTSTART;VALUE=DATE:20250617
DTEND;VALUE=DATE:20250618
DTSTAMP:20260424T205231
CREATED:20250520T220624Z
LAST-MODIFIED:20250520T220624Z
UID:1602-1750118400-1750204799@woodlandhillsmd.com
SUMMARY:Recycling/Yard Waste Pickup
DESCRIPTION:Recycling bins and yard waste may be put out the evening prior to next-day pickup. \nGrass clippings\, leaves\, and brush must be bagged separately in yard-waste paper bag. \nBranches must be tied in bundles or placed in brown paper bags (only branches up to 4″ in diameter and 6′ in length will be picked up). \nFor more information on recycling\, visit: www.gaithersburgmd.gov/services/recycling-bulk-pickup \n*Service provided by the City of Gaithersburg.
URL:https://woodlandhillsmd.com/calendar/recycling-yard-waste-pickup-29/
CATEGORIES:Recycling Pickup
END:VEVENT
END:VCALENDAR