BEGIN:VCALENDAR
VERSION:2.0
PRODID:-//Woodland Hills HOA - ECPv6.15.20//NONSGML v1.0//EN
CALSCALE:GREGORIAN
METHOD:PUBLISH
X-WR-CALNAME:Woodland Hills HOA
X-ORIGINAL-URL:https://woodlandhillsmd.com
X-WR-CALDESC:Events for Woodland Hills HOA
REFRESH-INTERVAL;VALUE=DURATION:PT1H
X-Robots-Tag:noindex
X-PUBLISHED-TTL:PT1H
BEGIN:VTIMEZONE
TZID:UTC
BEGIN:STANDARD
TZOFFSETFROM:+0000
TZOFFSETTO:+0000
TZNAME:UTC
DTSTART:20230101T000000
END:STANDARD
END:VTIMEZONE
BEGIN:VEVENT
DTSTART;TZID=UTC:20260413T190000
DTEND;TZID=UTC:20260413T200000
DTSTAMP:20260424T211322
CREATED:20260406T165239Z
LAST-MODIFIED:20260406T165239Z
UID:2044-1776106800-1776110400@woodlandhillsmd.com
SUMMARY:Board of Directors Meeting
DESCRIPTION:Join us at 7:00 p.m. for our Board of Directors Meeting from your computer\, tablet\, or phone. \nHomeowners receive access information via email. Please contact our management company to make sure your contact details are correct.
URL:https://woodlandhillsmd.com/calendar/board-of-directors-meeting-14/
CATEGORIES:Board of Directors Meetings
END:VEVENT
BEGIN:VEVENT
DTSTART;TZID=UTC:20260309T190000
DTEND;TZID=UTC:20260309T210000
DTSTAMP:20260424T211322
CREATED:20260211T210337Z
LAST-MODIFIED:20260211T210337Z
UID:1976-1773082800-1773090000@woodlandhillsmd.com
SUMMARY:Board of Directors Meeting
DESCRIPTION:Join us at 7:00 p.m. for our Board of Directors Meeting from your computer\, tablet\, or phone. \nHomeowners receive access information via email. Please contact our management company to make sure your contact details are correct.
URL:https://woodlandhillsmd.com/calendar/board-of-directors-meeting-13/
CATEGORIES:Board of Directors Meetings
END:VEVENT
BEGIN:VEVENT
DTSTART;TZID=UTC:20260209T190000
DTEND;TZID=UTC:20260209T210000
DTSTAMP:20260424T211322
CREATED:20260211T205941Z
LAST-MODIFIED:20260211T210019Z
UID:1974-1770663600-1770670800@woodlandhillsmd.com
SUMMARY:Board of Directors Meeting
DESCRIPTION:Join us at 7:00 p.m. for our Board of Directors Meeting from your computer\, tablet\, or phone. \nHomeowners receive access information via email. Please contact our management company to make sure your contact details are correct.
URL:https://woodlandhillsmd.com/calendar/board-of-directors-meeting-12/
CATEGORIES:Board of Directors Meetings
END:VEVENT
BEGIN:VEVENT
DTSTART;TZID=UTC:20251124T190000
DTEND;TZID=UTC:20251124T210000
DTSTAMP:20260424T211322
CREATED:20251124T204021Z
LAST-MODIFIED:20251124T204021Z
UID:1879-1764010800-1764018000@woodlandhillsmd.com
SUMMARY:Board of Directors Meeting
DESCRIPTION:Join us at 7:00 p.m. for our Board of Directors Meeting from your computer\, tablet\, or phone. \nHomeowners receive access information via email. Please contact our management company to make sure your contact details are correct.
URL:https://woodlandhillsmd.com/calendar/board-of-directors-meeting-11/
CATEGORIES:Board of Directors Meetings
END:VEVENT
BEGIN:VEVENT
DTSTART;TZID=UTC:20251027T190000
DTEND;TZID=UTC:20251027T210000
DTSTAMP:20260424T211322
CREATED:20251006T223254Z
LAST-MODIFIED:20251006T223254Z
UID:1874-1761591600-1761598800@woodlandhillsmd.com
SUMMARY:Board of Directors Meeting
DESCRIPTION:Join us at 7:00 p.m. for our Board of Directors Meeting from your computer\, tablet\, or phone. \nHomeowners receive access information via email. Please contact our management company to make sure your contact details are correct.
URL:https://woodlandhillsmd.com/calendar/board-of-directors-meeting-10/
CATEGORIES:Board of Directors Meetings
END:VEVENT
BEGIN:VEVENT
DTSTART;TZID=UTC:20250929T190000
DTEND;TZID=UTC:20250929T210000
DTSTAMP:20260424T211322
CREATED:20250902T163135Z
LAST-MODIFIED:20250904T165159Z
UID:1808-1759172400-1759179600@woodlandhillsmd.com
SUMMARY:Board of Directors Meeting
DESCRIPTION:Join us at 7:00 p.m. for our Board of Directors Meeting from your computer\, tablet\, or phone. \nHomeowners receive access information via email. Please contact our management company to make sure your contact details are correct.
URL:https://woodlandhillsmd.com/calendar/board-of-directors-meeting-9/
CATEGORIES:Board of Directors Meetings
END:VEVENT
BEGIN:VEVENT
DTSTART;TZID=UTC:20250913T130000
DTEND;TZID=UTC:20250913T150000
DTSTAMP:20260424T211322
CREATED:20250902T164532Z
LAST-MODIFIED:20250902T164641Z
UID:1840-1757768400-1757775600@woodlandhillsmd.com
SUMMARY:ARC Meeting
DESCRIPTION:ARC Meeting for all the homeowners to discuss: \n\nParking\nAnnual Inspections\nViolations (including Due Process)\n\nLocation: Community Pool House
URL:https://woodlandhillsmd.com/calendar/arc-meeting/
CATEGORIES:Board of Directors Meetings
END:VEVENT
BEGIN:VEVENT
DTSTART;TZID=UTC:20250818T191500
DTEND;TZID=UTC:20250818T210000
DTSTAMP:20260424T211322
CREATED:20250801T164458Z
LAST-MODIFIED:20250801T164458Z
UID:1779-1755544500-1755550800@woodlandhillsmd.com
SUMMARY:Board of Directors Meeting
DESCRIPTION:Join us at 7:15 p.m. for our Board of Directors Meeting from your computer\, tablet\, or phone. \nHomeowners receive access information via email. Please contact our management company to make sure your contact details are correct.
URL:https://woodlandhillsmd.com/calendar/board-of-directors-meeting-8/
CATEGORIES:Board of Directors Meetings
END:VEVENT
BEGIN:VEVENT
DTSTART;TZID=UTC:20250818T190000
DTEND;TZID=UTC:20250818T191500
DTSTAMP:20260424T211322
CREATED:20250801T164402Z
LAST-MODIFIED:20250801T164402Z
UID:1777-1755543600-1755544500@woodlandhillsmd.com
SUMMARY:Annual Meeting - Second Attempt to Achieve Quorum
DESCRIPTION:Join us at 7:00 p.m. for our Annual Meeting from your computer\, tablet\, or phone. \nHomeowners receive access information via email. Please contact our management company to make sure your contact details are correct.
URL:https://woodlandhillsmd.com/calendar/annual-meeting-second-attempt-to-achieve-quorum/
CATEGORIES:Board of Directors Meetings
END:VEVENT
BEGIN:VEVENT
DTSTART;TZID=UTC:20250728T183000
DTEND;TZID=UTC:20250728T203000
DTSTAMP:20260424T211322
CREATED:20250619T161330Z
LAST-MODIFIED:20250619T161330Z
UID:1710-1753727400-1753734600@woodlandhillsmd.com
SUMMARY:Annual Meeting
DESCRIPTION:Join us at 6:30 p.m. for our Annual Meeting from your computer\, tablet\, or phone. \nHomeowners receive access information via email. Please contact our management company to make sure your contact details are correct.
URL:https://woodlandhillsmd.com/calendar/annual-meeting/
CATEGORIES:Board of Directors Meetings
END:VEVENT
BEGIN:VEVENT
DTSTART;TZID=UTC:20250630T190000
DTEND;TZID=UTC:20250630T210000
DTSTAMP:20260424T211322
CREATED:20250605T182041Z
LAST-MODIFIED:20250623T173543Z
UID:1685-1751310000-1751317200@woodlandhillsmd.com
SUMMARY:Board of Directors Meeting
DESCRIPTION:Join us at 7:00 p.m. for our Board of Directors Meeting from your computer\, tablet\, or phone. \nHomeowners receive access information via email. Please contact our management company to make sure your contact details are correct.
URL:https://woodlandhillsmd.com/calendar/board-of-directors-meeting-7/
CATEGORIES:Board of Directors Meetings
END:VEVENT
BEGIN:VEVENT
DTSTART;TZID=UTC:20250529T183000
DTEND;TZID=UTC:20250529T203000
DTSTAMP:20260424T211322
CREATED:20250501T230825Z
LAST-MODIFIED:20250528T182018Z
UID:1480-1748543400-1748550600@woodlandhillsmd.com
SUMMARY:Board of Directors Meeting
DESCRIPTION:Join us at 6:30 p.m. for our Board of Directors Meeting from your computer\, tablet\, or phone. \nHomeowners receive access information via email. Please contact our management company to make sure your contact details are correct.
URL:https://woodlandhillsmd.com/calendar/board-of-directors-meeting-6/
CATEGORIES:Board of Directors Meetings
END:VEVENT
BEGIN:VEVENT
DTSTART;TZID=UTC:20250428T190000
DTEND;TZID=UTC:20250428T210000
DTSTAMP:20260424T211322
CREATED:20250501T230659Z
LAST-MODIFIED:20250501T230659Z
UID:1478-1745866800-1745874000@woodlandhillsmd.com
SUMMARY:Board of Directors Meeting
DESCRIPTION:Join us at 7:00 p.m. for our Board of Directors Meeting from your computer\, tablet\, or phone. \nHomeowners receive access information via email. Please contact our management company to make sure your contact details are correct.
URL:https://woodlandhillsmd.com/calendar/board-of-directors-meeting-5/
CATEGORIES:Board of Directors Meetings
END:VEVENT
BEGIN:VEVENT
DTSTART;TZID=UTC:20250324T190000
DTEND;TZID=UTC:20250324T210000
DTSTAMP:20260424T211322
CREATED:20250311T221712Z
LAST-MODIFIED:20250311T221712Z
UID:1446-1742842800-1742850000@woodlandhillsmd.com
SUMMARY:Board of Directors Meeting
DESCRIPTION:Join us at 7:00 p.m. for our Board of Directors Meeting from your computer\, tablet\, or phone. \nHomeowners receive access information via email. Please contact our management company to make sure your contact details are correct.
URL:https://woodlandhillsmd.com/calendar/board-of-directors-meeting-4/
CATEGORIES:Board of Directors Meetings
END:VEVENT
BEGIN:VEVENT
DTSTART;TZID=UTC:20250224T190000
DTEND;TZID=UTC:20250224T210000
DTSTAMP:20260424T211322
CREATED:20250202T192808Z
LAST-MODIFIED:20250217T204918Z
UID:1335-1740423600-1740430800@woodlandhillsmd.com
SUMMARY:Board of Directors Meeting
DESCRIPTION:Join us at 7:00 p.m. for our Board of Directors Meeting from your computer\, tablet\, or phone. \nHomeowners receive access information via email. Please contact our management company to make sure your contact details are correct.
URL:https://woodlandhillsmd.com/calendar/board-of-directors-meeting-3/
CATEGORIES:Board of Directors Meetings
END:VEVENT
BEGIN:VEVENT
DTSTART;TZID=UTC:20250127T190000
DTEND;TZID=UTC:20250127T210000
DTSTAMP:20260424T211322
CREATED:20241217T191252Z
LAST-MODIFIED:20250111T192224Z
UID:1115-1738004400-1738011600@woodlandhillsmd.com
SUMMARY:Board of Directors Meeting
DESCRIPTION:Join us at 7:00 p.m. for our Board of Directors Meeting from your computer\, tablet\, or phone. \nHomeowners receive access information via email. Please contact our management company to make sure your contact details are correct.
URL:https://woodlandhillsmd.com/calendar/board-of-directors-meeting/
CATEGORIES:Board of Directors Meetings
END:VEVENT
BEGIN:VEVENT
DTSTART;TZID=UTC:20241216T190000
DTEND;TZID=UTC:20241216T210000
DTSTAMP:20260424T211322
CREATED:20241217T202948Z
LAST-MODIFIED:20241217T204002Z
UID:1188-1734375600-1734382800@woodlandhillsmd.com
SUMMARY:Board of Directors Meeting
DESCRIPTION:Join us at 7:00 p.m. for our Board of Directors Meeting from your computer\, tablet\, or phone. \nHomeowners receive access information via email. Please contact management company to update or your contact details.
URL:https://woodlandhillsmd.com/calendar/board-of-directors-meeting-2/
CATEGORIES:Board of Directors Meetings
END:VEVENT
END:VCALENDAR